BEGIN:VCALENDAR
VERSION:2.0
PRODID:-//Evankelinen lähetysyhdistys ELY ry - ECPv6.15.18//NONSGML v1.0//EN
CALSCALE:GREGORIAN
METHOD:PUBLISH
X-ORIGINAL-URL:https://www.evankeliset.net
X-WR-CALDESC:Tapahtumat Evankelinen lähetysyhdistys ELY ry
REFRESH-INTERVAL;VALUE=DURATION:PT1H
X-Robots-Tag:noindex
X-PUBLISHED-TTL:PT1H
BEGIN:VTIMEZONE
TZID:Europe/Helsinki
BEGIN:DAYLIGHT
TZOFFSETFROM:+0200
TZOFFSETTO:+0300
TZNAME:EEST
DTSTART:20210328T010000
END:DAYLIGHT
BEGIN:STANDARD
TZOFFSETFROM:+0300
TZOFFSETTO:+0200
TZNAME:EET
DTSTART:20211031T010000
END:STANDARD
BEGIN:DAYLIGHT
TZOFFSETFROM:+0200
TZOFFSETTO:+0300
TZNAME:EEST
DTSTART:20220327T010000
END:DAYLIGHT
BEGIN:STANDARD
TZOFFSETFROM:+0300
TZOFFSETTO:+0200
TZNAME:EET
DTSTART:20221030T010000
END:STANDARD
BEGIN:DAYLIGHT
TZOFFSETFROM:+0200
TZOFFSETTO:+0300
TZNAME:EEST
DTSTART:20230326T010000
END:DAYLIGHT
BEGIN:STANDARD
TZOFFSETFROM:+0300
TZOFFSETTO:+0200
TZNAME:EET
DTSTART:20231029T010000
END:STANDARD
END:VTIMEZONE
BEGIN:VEVENT
DTSTART;TZID=Europe/Helsinki:20220814T100000
DTEND;TZID=Europe/Helsinki:20220814T130000
DTSTAMP:20260425T054207
CREATED:20220531T093809Z
LAST-MODIFIED:20220531T093809Z
UID:6988-1660471200-1660482000@www.evankeliset.net
SUMMARY:Juva\, Elyn kirkkopyhä
DESCRIPTION:
URL:https://www.evankeliset.net/tapahtuma/juva-elyn-kirkkopyha-2/
END:VEVENT
BEGIN:VEVENT
DTSTART;TZID=Europe/Helsinki:20220814T100000
DTEND;TZID=Europe/Helsinki:20220814T150000
DTSTAMP:20260425T054207
CREATED:20220720T061816Z
LAST-MODIFIED:20220805T091349Z
UID:7036-1660471200-1660489200@www.evankeliset.net
SUMMARY:Vihanti\, ystävyysseurakuntapäivä
DESCRIPTION:
URL:https://www.evankeliset.net/tapahtuma/vihanti-ystavyysseurakuntapaiva/
END:VEVENT
BEGIN:VEVENT
DTSTART;TZID=Europe/Helsinki:20220814T150000
DTEND;TZID=Europe/Helsinki:20220814T190000
DTSTAMP:20260425T054207
CREATED:20211116T130548Z
LAST-MODIFIED:20220805T060819Z
UID:6259-1660489200-1660503600@www.evankeliset.net
SUMMARY:Kortesjärvi\, Miestenpäivä
DESCRIPTION:
URL:https://www.evankeliset.net/tapahtuma/alaharma-miestenpaiva-2/
END:VEVENT
BEGIN:VEVENT
DTSTART;TZID=Europe/Helsinki:20220814T180000
DTEND;TZID=Europe/Helsinki:20220814T200000
DTSTAMP:20260425T054207
CREATED:20220720T062128Z
LAST-MODIFIED:20220805T092612Z
UID:7038-1660500000-1660507200@www.evankeliset.net
SUMMARY:Rantsilan kirkko\, ystävyysseurakuntatapahtuma
DESCRIPTION:
URL:https://www.evankeliset.net/tapahtuma/rantsilan-kirkko-ystavyysseurakuntatapahtuma/
END:VEVENT
BEGIN:VEVENT
DTSTART;TZID=Europe/Helsinki:20220814T180000
DTEND;TZID=Europe/Helsinki:20220814T200000
DTSTAMP:20260425T054207
CREATED:20220725T092033Z
LAST-MODIFIED:20220725T092033Z
UID:7060-1660500000-1660507200@www.evankeliset.net
SUMMARY:Taipalsaari\, Iltakirkko
DESCRIPTION:
URL:https://www.evankeliset.net/tapahtuma/taipalsaari-iltakirkko/
END:VEVENT
BEGIN:VEVENT
DTSTART;TZID=Europe/Helsinki:20220818T180000
DTEND;TZID=Europe/Helsinki:20220818T200000
DTSTAMP:20260425T054207
CREATED:20220511T060143Z
LAST-MODIFIED:20220817T074205Z
UID:6867-1660845600-1660852800@www.evankeliset.net
SUMMARY:Alavus\, Tapuliseurat
DESCRIPTION:
URL:https://www.evankeliset.net/tapahtuma/alavus-tapuliseurat-3/
END:VEVENT
BEGIN:VEVENT
DTSTART;TZID=Europe/Helsinki:20220821T100000
DTEND;TZID=Europe/Helsinki:20220821T120000
DTSTAMP:20260425T054207
CREATED:20220610T042859Z
LAST-MODIFIED:20220610T042859Z
UID:7020-1661076000-1661083200@www.evankeliset.net
SUMMARY:Sulkava\, Messu ja kirkkokahvit
DESCRIPTION:
URL:https://www.evankeliset.net/tapahtuma/sulkava-messu-ja-kirkkokahvit/
END:VEVENT
BEGIN:VEVENT
DTSTART;TZID=Europe/Helsinki:20220821T100000
DTEND;TZID=Europe/Helsinki:20220821T130000
DTSTAMP:20260425T054207
CREATED:20211111T112357Z
LAST-MODIFIED:20220511T061134Z
UID:6207-1661076000-1661086800@www.evankeliset.net
SUMMARY:Vähäkyrö\, Elyn kirkkopyhä
DESCRIPTION:
URL:https://www.evankeliset.net/tapahtuma/vahankyro-elyn-kirkkopyha/
END:VEVENT
BEGIN:VEVENT
DTSTART;TZID=Europe/Helsinki:20220821T111500
DTEND;TZID=Europe/Helsinki:20220821T130000
DTSTAMP:20260425T054207
CREATED:20220720T062744Z
LAST-MODIFIED:20220720T062744Z
UID:7040-1661080500-1661086800@www.evankeliset.net
SUMMARY:Hamina\, evankelinen juhla Simeon-salissa
DESCRIPTION:
URL:https://www.evankeliset.net/tapahtuma/hamina-evankelinen-juhla-simeon-salissa/
END:VEVENT
BEGIN:VEVENT
DTSTART;TZID=Europe/Helsinki:20220825T180000
DTEND;TZID=Europe/Helsinki:20220825T200000
DTSTAMP:20260425T054207
CREATED:20220317T075634Z
LAST-MODIFIED:20220317T075634Z
UID:6637-1661450400-1661457600@www.evankeliset.net
SUMMARY:Ylihärmä\, Raamattuluento-Vanhassa vara parempi
DESCRIPTION:
URL:https://www.evankeliset.net/tapahtuma/yliharma-raamattuluento-vanhassa-vara-parempi/
END:VEVENT
BEGIN:VEVENT
DTSTART;TZID=Europe/Helsinki:20220828T100000
DTEND;TZID=Europe/Helsinki:20220828T120000
DTSTAMP:20260425T054207
CREATED:20220201T122621Z
LAST-MODIFIED:20220805T061057Z
UID:6509-1661680800-1661688000@www.evankeliset.net
SUMMARY:Keuruu\, Elyn kirkkopyhä
DESCRIPTION:
URL:https://www.evankeliset.net/tapahtuma/keuruu-elyn-kirkkopyha-3/
END:VEVENT
BEGIN:VEVENT
DTSTART;TZID=Europe/Helsinki:20220831T180000
DTEND;TZID=Europe/Helsinki:20220831T200000
DTSTAMP:20260425T054207
CREATED:20220818T045615Z
LAST-MODIFIED:20220818T045615Z
UID:7102-1661968800-1661976000@www.evankeliset.net
SUMMARY:Himanka\, Siionin kannel seurat
DESCRIPTION:
URL:https://www.evankeliset.net/tapahtuma/himanka-siionin-kannel-seurat/
END:VEVENT
BEGIN:VEVENT
DTSTART;TZID=Europe/Helsinki:20220902T100000
DTEND;TZID=Europe/Helsinki:20220904T200000
DTSTAMP:20260425T054207
CREATED:20220511T071027Z
LAST-MODIFIED:20220511T095950Z
UID:6874-1662112800-1662321600@www.evankeliset.net
SUMMARY:Haapajärvi\, Oulun hiippakunnan lähetysjuhla
DESCRIPTION:
URL:https://www.evankeliset.net/tapahtuma/haapajarvi-oulun-hiippakunnan-lahetysjuhla/
END:VEVENT
BEGIN:VEVENT
DTSTART;TZID=Europe/Helsinki:20220904T130000
DTEND;TZID=Europe/Helsinki:20220904T140000
DTSTAMP:20260425T054207
CREATED:20220317T083123Z
LAST-MODIFIED:20220822T081346Z
UID:6647-1662296400-1662300000@www.evankeliset.net
SUMMARY:Kortesjärvi\, Elyn kirkkopyhä
DESCRIPTION:
URL:https://www.evankeliset.net/tapahtuma/kortesjarvi-elyn-kirkkopyha-3/
END:VEVENT
BEGIN:VEVENT
DTSTART;TZID=Europe/Helsinki:20220905T130000
DTEND;TZID=Europe/Helsinki:20220905T150000
DTSTAMP:20260425T054207
CREATED:20220512T063631Z
LAST-MODIFIED:20220512T063631Z
UID:6895-1662382800-1662390000@www.evankeliset.net
SUMMARY:Kurikka\, Siionin kannel seurat
DESCRIPTION:
URL:https://www.evankeliset.net/tapahtuma/kurikka-siionin-kannel-seurat-50/
END:VEVENT
BEGIN:VEVENT
DTSTART;TZID=Europe/Helsinki:20220906T100000
DTEND;TZID=Europe/Helsinki:20220906T140000
DTSTAMP:20260425T054207
CREATED:20220831T051339Z
LAST-MODIFIED:20220831T051339Z
UID:7144-1662458400-1662472800@www.evankeliset.net
SUMMARY:Kokkola\, Lähetyssoppi
DESCRIPTION:
URL:https://www.evankeliset.net/tapahtuma/kokkola-lahetyssoppi-38/
END:VEVENT
BEGIN:VEVENT
DTSTART;TZID=Europe/Helsinki:20220908T140000
DTEND;TZID=Europe/Helsinki:20220908T160000
DTSTAMP:20260425T054207
CREATED:20220509T091806Z
LAST-MODIFIED:20220513T081159Z
UID:6858-1662645600-1662652800@www.evankeliset.net
SUMMARY:Kauhajoki\, Siionin kannel seurat
DESCRIPTION:
URL:https://www.evankeliset.net/tapahtuma/kauhajoki-siionin-kannel-seurat-15/
END:VEVENT
BEGIN:VEVENT
DTSTART;TZID=Europe/Helsinki:20220908T180000
DTEND;TZID=Europe/Helsinki:20220908T200000
DTSTAMP:20260425T054207
CREATED:20220317T075835Z
LAST-MODIFIED:20220317T075835Z
UID:6639-1662660000-1662667200@www.evankeliset.net
SUMMARY:Ylihärmä\, Raamattuluento-Vanhassa vara parempi
DESCRIPTION:
URL:https://www.evankeliset.net/tapahtuma/yliharma-raamattuluento-vanhassa-vara-parempi-2/
END:VEVENT
BEGIN:VEVENT
DTSTART;TZID=Europe/Helsinki:20220909T180000
DTEND;TZID=Europe/Helsinki:20220911T180000
DTSTAMP:20260425T054207
CREATED:20220511T073310Z
LAST-MODIFIED:20220829T085428Z
UID:6876-1662746400-1662919200@www.evankeliset.net
SUMMARY:Lohtaja\, Ohtakari\, Aarrearkkuleiri
DESCRIPTION:
URL:https://www.evankeliset.net/tapahtuma/lohtaja-ohtakari-aarrearkkuleiri/
END:VEVENT
BEGIN:VEVENT
DTSTART;TZID=Europe/Helsinki:20220911T100000
DTEND;TZID=Europe/Helsinki:20220911T140000
DTSTAMP:20260425T054207
CREATED:20211129T082900Z
LAST-MODIFIED:20220829T093934Z
UID:6329-1662890400-1662904800@www.evankeliset.net
SUMMARY:Teuva\, Elyn kirkkopyhä
DESCRIPTION:
URL:https://www.evankeliset.net/tapahtuma/teuva-elyn-kirkkopyha-4/
END:VEVENT
BEGIN:VEVENT
DTSTART;TZID=Europe/Helsinki:20220912T180000
DTEND;TZID=Europe/Helsinki:20220912T200000
DTSTAMP:20260425T054207
CREATED:20220531T103713Z
LAST-MODIFIED:20220531T103713Z
UID:6990-1663005600-1663012800@www.evankeliset.net
SUMMARY:Ilmajoki\, Siionin kanteleen lauluilta
DESCRIPTION:
URL:https://www.evankeliset.net/tapahtuma/ilmajoki-siionin-kanteleen-lauluilta/
END:VEVENT
BEGIN:VEVENT
DTSTART;TZID=Europe/Helsinki:20220913T140000
DTEND;TZID=Europe/Helsinki:20220913T180000
DTSTAMP:20260425T054207
CREATED:20220822T105501Z
LAST-MODIFIED:20220822T105501Z
UID:7107-1663077600-1663092000@www.evankeliset.net
SUMMARY:Riihimäki\, Siionin kannel -lauluseurat
DESCRIPTION:
URL:https://www.evankeliset.net/tapahtuma/riihimaki-siionin-kannel-lauluseurat-4/
END:VEVENT
BEGIN:VEVENT
DTSTART;TZID=Europe/Helsinki:20220913T180000
DTEND;TZID=Europe/Helsinki:20220913T200000
DTSTAMP:20260425T054207
CREATED:20220808T084651Z
LAST-MODIFIED:20220808T084651Z
UID:7096-1663092000-1663099200@www.evankeliset.net
SUMMARY:Kuortane\, Siionin kannel seurat
DESCRIPTION:
URL:https://www.evankeliset.net/tapahtuma/kuortane-siionin-kannel-seurat/
END:VEVENT
BEGIN:VEVENT
DTSTART;TZID=Europe/Helsinki:20220914T133000
DTEND;TZID=Europe/Helsinki:20220914T150000
DTSTAMP:20260425T054207
CREATED:20220512T060635Z
LAST-MODIFIED:20220805T071304Z
UID:6884-1663162200-1663167600@www.evankeliset.net
SUMMARY:Kokkola\, Päiväkahvitilaisuus
DESCRIPTION:
URL:https://www.evankeliset.net/tapahtuma/kokkola-paivakahvitilaisuus-8/
END:VEVENT
BEGIN:VEVENT
DTSTART;TZID=Europe/Helsinki:20220915T180000
DTEND;TZID=Europe/Helsinki:20220915T193000
DTSTAMP:20260425T054207
CREATED:20220908T042040Z
LAST-MODIFIED:20220915T111041Z
UID:7155-1663264800-1663270200@www.evankeliset.net
SUMMARY:Tampere\, Kahvia\, Kannelta ja Sanaa
DESCRIPTION:
URL:https://www.evankeliset.net/tapahtuma/tampere-kahvia-kannelta-ja-sanaa/
END:VEVENT
BEGIN:VEVENT
DTSTART;TZID=Europe/Helsinki:20220917T090000
DTEND;TZID=Europe/Helsinki:20220917T160000
DTSTAMP:20260425T054207
CREATED:20220720T064105Z
LAST-MODIFIED:20220720T064105Z
UID:7044-1663405200-1663430400@www.evankeliset.net
SUMMARY:Joutjärvi\, Lahti\, hiippakunnan lähetysseminaari
DESCRIPTION:
URL:https://www.evankeliset.net/tapahtuma/joutjarvi-lahti-hiippakunnan-lahetysseminaari/
END:VEVENT
BEGIN:VEVENT
DTSTART;TZID=Europe/Helsinki:20220918T100000
DTEND;TZID=Europe/Helsinki:20220918T120000
DTSTAMP:20260425T054207
CREATED:20220720T064818Z
LAST-MODIFIED:20220912T083536Z
UID:7046-1663495200-1663502400@www.evankeliset.net
SUMMARY:Taipalsaari\, Elyn kirkkopyhä
DESCRIPTION:
URL:https://www.evankeliset.net/tapahtuma/taipalsaari-elyn-kirkkopyha/
END:VEVENT
BEGIN:VEVENT
DTSTART;TZID=Europe/Helsinki:20220918T100000
DTEND;TZID=Europe/Helsinki:20220918T140000
DTSTAMP:20260425T054207
CREATED:20211111T113341Z
LAST-MODIFIED:20220907T063933Z
UID:6213-1663495200-1663509600@www.evankeliset.net
SUMMARY:Seinäjoki\, maakunnallinen kirkkopyhä
DESCRIPTION:
URL:https://www.evankeliset.net/tapahtuma/seinajoki-maakunnallinen-kirkkopyha/
END:VEVENT
BEGIN:VEVENT
DTSTART;TZID=Europe/Helsinki:20220919T140000
DTEND;TZID=Europe/Helsinki:20220919T160000
DTSTAMP:20260425T054207
CREATED:20220728T060138Z
LAST-MODIFIED:20220728T060138Z
UID:7063-1663596000-1663603200@www.evankeliset.net
SUMMARY:Kouvola\, Evankelinen lähetyspiiri
DESCRIPTION:
URL:https://www.evankeliset.net/tapahtuma/kouvola-evankelinen-lahetyspiiri-3/
END:VEVENT
BEGIN:VEVENT
DTSTART;TZID=Europe/Helsinki:20220919T180000
DTEND;TZID=Europe/Helsinki:20220919T200000
DTSTAMP:20260425T054207
CREATED:20220512T063900Z
LAST-MODIFIED:20220512T064021Z
UID:6897-1663610400-1663617600@www.evankeliset.net
SUMMARY:Kurikka\, lähetysilta
DESCRIPTION:
URL:https://www.evankeliset.net/tapahtuma/kurikka-lahetysilta/
END:VEVENT
END:VCALENDAR