BEGIN:VCALENDAR
VERSION:2.0
PRODID:-//Evankelinen lähetysyhdistys ELY ry - ECPv6.15.18//NONSGML v1.0//EN
CALSCALE:GREGORIAN
METHOD:PUBLISH
X-ORIGINAL-URL:https://www.evankeliset.net
X-WR-CALDESC:Tapahtumat Evankelinen lähetysyhdistys ELY ry
REFRESH-INTERVAL;VALUE=DURATION:PT1H
X-Robots-Tag:noindex
X-PUBLISHED-TTL:PT1H
BEGIN:VTIMEZONE
TZID:Europe/Helsinki
BEGIN:DAYLIGHT
TZOFFSETFROM:+0200
TZOFFSETTO:+0300
TZNAME:EEST
DTSTART:20220327T010000
END:DAYLIGHT
BEGIN:STANDARD
TZOFFSETFROM:+0300
TZOFFSETTO:+0200
TZNAME:EET
DTSTART:20221030T010000
END:STANDARD
BEGIN:DAYLIGHT
TZOFFSETFROM:+0200
TZOFFSETTO:+0300
TZNAME:EEST
DTSTART:20230326T010000
END:DAYLIGHT
BEGIN:STANDARD
TZOFFSETFROM:+0300
TZOFFSETTO:+0200
TZNAME:EET
DTSTART:20231029T010000
END:STANDARD
BEGIN:DAYLIGHT
TZOFFSETFROM:+0200
TZOFFSETTO:+0300
TZNAME:EEST
DTSTART:20240331T010000
END:DAYLIGHT
BEGIN:STANDARD
TZOFFSETFROM:+0300
TZOFFSETTO:+0200
TZNAME:EET
DTSTART:20241027T010000
END:STANDARD
END:VTIMEZONE
BEGIN:VEVENT
DTSTART;TZID=Europe/Helsinki:20230928T130000
DTEND;TZID=Europe/Helsinki:20230928T150000
DTSTAMP:20260424T082719
CREATED:20230602T061631Z
LAST-MODIFIED:20230602T064417Z
UID:8088-1695906000-1695913200@www.evankeliset.net
SUMMARY:Alavus\, Hyvässä seurassa
DESCRIPTION:
URL:https://www.evankeliset.net/tapahtuma/alavus-hyvassa-seurassa-26/
END:VEVENT
BEGIN:VEVENT
DTSTART;TZID=Europe/Helsinki:20230929T140000
DTEND;TZID=Europe/Helsinki:20230929T153000
DTSTAMP:20260424T082719
CREATED:20230321T135312Z
LAST-MODIFIED:20230321T135312Z
UID:7905-1695996000-1696001400@www.evankeliset.net
SUMMARY:Hämeenlinna\, Raamattuhetki
DESCRIPTION:
URL:https://www.evankeliset.net/tapahtuma/hameenlinna-raamattuhetki-3/
END:VEVENT
BEGIN:VEVENT
DTSTART;TZID=Europe/Helsinki:20231001T100000
DTEND;TZID=Europe/Helsinki:20231001T120000
DTSTAMP:20260424T082719
CREATED:20221130T114159Z
LAST-MODIFIED:20230913T052631Z
UID:7473-1696154400-1696161600@www.evankeliset.net
SUMMARY:Teuva\, Perhekirkko
DESCRIPTION:
URL:https://www.evankeliset.net/tapahtuma/teuva-perhekirkko/
END:VEVENT
BEGIN:VEVENT
DTSTART;TZID=Europe/Helsinki:20231001T120000
DTEND;TZID=Europe/Helsinki:20231001T140000
DTSTAMP:20260424T082719
CREATED:20230904T061931Z
LAST-MODIFIED:20230904T061931Z
UID:8292-1696161600-1696168800@www.evankeliset.net
SUMMARY:Espoo\, Aurora\, Elyn kirkkopyhä
DESCRIPTION:
URL:https://www.evankeliset.net/tapahtuma/espoo-aurora-elyn-kirkkopyha-3/
END:VEVENT
BEGIN:VEVENT
DTSTART;TZID=Europe/Helsinki:20231005T153000
DTEND;TZID=Europe/Helsinki:20231005T173000
DTSTAMP:20260424T082719
CREATED:20230606T095731Z
LAST-MODIFIED:20230606T095731Z
UID:8108-1696519800-1696527000@www.evankeliset.net
SUMMARY:Tampere\, Sanaa ja Siikkaria
DESCRIPTION:
URL:https://www.evankeliset.net/tapahtuma/tampere-sanaa-ja-siikkaria/
END:VEVENT
BEGIN:VEVENT
DTSTART;TZID=Europe/Helsinki:20231008T100000
DTEND;TZID=Europe/Helsinki:20231008T130000
DTSTAMP:20260424T082720
CREATED:20230809T071149Z
LAST-MODIFIED:20230809T071149Z
UID:8205-1696759200-1696770000@www.evankeliset.net
SUMMARY:Espoo\, Olari\, Lähetyspyhä ja kahvitilaisuus
DESCRIPTION:
URL:https://www.evankeliset.net/tapahtuma/espoo-olari-lahetyspyha-ja-kahvitilaisuus/
END:VEVENT
BEGIN:VEVENT
DTSTART;TZID=Europe/Helsinki:20231008T100000
DTEND;TZID=Europe/Helsinki:20231008T140000
DTSTAMP:20260424T082720
CREATED:20230524T082535Z
LAST-MODIFIED:20230913T052806Z
UID:8047-1696759200-1696773600@www.evankeliset.net
SUMMARY:Lapua\, Messu
DESCRIPTION:
URL:https://www.evankeliset.net/tapahtuma/lapua-messu/
END:VEVENT
BEGIN:VEVENT
DTSTART;TZID=Europe/Helsinki:20231008T150000
DTEND;TZID=Europe/Helsinki:20231008T170000
DTSTAMP:20260424T082720
CREATED:20230904T062100Z
LAST-MODIFIED:20230904T062100Z
UID:8294-1696777200-1696784400@www.evankeliset.net
SUMMARY:Espoo\, International Lutheran Worship Service
DESCRIPTION:
URL:https://www.evankeliset.net/tapahtuma/espoo-international-lutheran-worship-service/
END:VEVENT
BEGIN:VEVENT
DTSTART;TZID=Europe/Helsinki:20231009T080000
DTEND;TZID=Europe/Helsinki:20231009T170000
DTSTAMP:20260424T082720
CREATED:20230606T103027Z
LAST-MODIFIED:20230606T103027Z
UID:8122-1696838400-1696870800@www.evankeliset.net
SUMMARY:Kurikka\, Siionin kannel -seurat
DESCRIPTION:
URL:https://www.evankeliset.net/tapahtuma/kurikka-siionin-kannel-seurat-64/
END:VEVENT
BEGIN:VEVENT
DTSTART;TZID=Europe/Helsinki:20231010T100000
DTEND;TZID=Europe/Helsinki:20231010T140000
DTSTAMP:20260424T082720
CREATED:20230823T111748Z
LAST-MODIFIED:20230823T111748Z
UID:8256-1696932000-1696946400@www.evankeliset.net
SUMMARY:Kokkola\, Lähetyssoppi
DESCRIPTION:
URL:https://www.evankeliset.net/tapahtuma/kokkola-lahetyssoppi-47/
END:VEVENT
BEGIN:VEVENT
DTSTART;TZID=Europe/Helsinki:20231011T130000
DTEND;TZID=Europe/Helsinki:20231011T150000
DTSTAMP:20260424T082720
CREATED:20230322T073231Z
LAST-MODIFIED:20230322T073231Z
UID:7922-1697029200-1697036400@www.evankeliset.net
SUMMARY:Kokkola\, Lauluhetki
DESCRIPTION:
URL:https://www.evankeliset.net/tapahtuma/kokkola-lauluhetki-3/
END:VEVENT
BEGIN:VEVENT
DTSTART;TZID=Europe/Helsinki:20231012T140000
DTEND;TZID=Europe/Helsinki:20231012T160000
DTSTAMP:20260424T082720
CREATED:20230606T104046Z
LAST-MODIFIED:20230913T062827Z
UID:8132-1697119200-1697126400@www.evankeliset.net
SUMMARY:Kauhajoki\, Siionin kannel -seurat
DESCRIPTION:
URL:https://www.evankeliset.net/tapahtuma/kauhajoki-siionin-kannel-seurat-24/
END:VEVENT
BEGIN:VEVENT
DTSTART;TZID=Europe/Helsinki:20231012T140000
DTEND;TZID=Europe/Helsinki:20231012T160000
DTSTAMP:20260424T082720
CREATED:20230825T065316Z
LAST-MODIFIED:20230825T065316Z
UID:8272-1697119200-1697126400@www.evankeliset.net
SUMMARY:Seinäjoki\, SK-lauluryhmä Simunanrannassa
DESCRIPTION:
URL:https://www.evankeliset.net/tapahtuma/seinajoki-sk-lauluryhma-simunanrannassa-2/
END:VEVENT
BEGIN:VEVENT
DTSTART;TZID=Europe/Helsinki:20231013T140000
DTEND;TZID=Europe/Helsinki:20231013T153000
DTSTAMP:20260424T082720
CREATED:20230321T135431Z
LAST-MODIFIED:20230816T055155Z
UID:7907-1697205600-1697211000@www.evankeliset.net
SUMMARY:Hämeenlinna\, Raamattuhetki
DESCRIPTION:
URL:https://www.evankeliset.net/tapahtuma/hameenlinna-raamattuhetki-4/
END:VEVENT
BEGIN:VEVENT
DTSTART;TZID=Europe/Helsinki:20231014T120000
DTEND;TZID=Europe/Helsinki:20231015T150000
DTSTAMP:20260424T082720
CREATED:20230811T060733Z
LAST-MODIFIED:20230811T060733Z
UID:8223-1697284800-1697382000@www.evankeliset.net
SUMMARY:Kitee\, hengellinen viikonloppu
DESCRIPTION:
URL:https://www.evankeliset.net/tapahtuma/kitee-hengellinen-viikonloppu-4/
END:VEVENT
BEGIN:VEVENT
DTSTART;TZID=Europe/Helsinki:20231015T100000
DTEND;TZID=Europe/Helsinki:20231015T120000
DTSTAMP:20260424T082720
CREATED:20230607T045336Z
LAST-MODIFIED:20230620T080725Z
UID:8136-1697364000-1697371200@www.evankeliset.net
SUMMARY:Lappajärvi\, messu
DESCRIPTION:
URL:https://www.evankeliset.net/tapahtuma/lappajarvi-messu/
END:VEVENT
BEGIN:VEVENT
DTSTART;TZID=Europe/Helsinki:20231015T140000
DTEND;TZID=Europe/Helsinki:20231015T160000
DTSTAMP:20260424T082720
CREATED:20230524T100844Z
LAST-MODIFIED:20231010T043438Z
UID:8055-1697378400-1697385600@www.evankeliset.net
SUMMARY:Seinäjoki\, Siionin kannel seurat
DESCRIPTION:
URL:https://www.evankeliset.net/tapahtuma/seinajoki-siionin-kannel-seurat-12/
END:VEVENT
BEGIN:VEVENT
DTSTART;TZID=Europe/Helsinki:20231015T160000
DTEND;TZID=Europe/Helsinki:20231015T200000
DTSTAMP:20260424T082720
CREATED:20230808T095529Z
LAST-MODIFIED:20230913T053222Z
UID:8189-1697385600-1697400000@www.evankeliset.net
SUMMARY:Alavus\, Lähetystilaisuus
DESCRIPTION:
URL:https://www.evankeliset.net/tapahtuma/alavus-lahetyspyha/
END:VEVENT
BEGIN:VEVENT
DTSTART;TZID=Europe/Helsinki:20231015T180000
DTEND;TZID=Europe/Helsinki:20231015T193000
DTSTAMP:20260424T082720
CREATED:20231005T041629Z
LAST-MODIFIED:20231005T041629Z
UID:8412-1697392800-1697398200@www.evankeliset.net
SUMMARY:Elimäki\, kiitosvirsien ilta
DESCRIPTION:
URL:https://www.evankeliset.net/tapahtuma/elimaki-kiitosvirsien-ilta/
END:VEVENT
BEGIN:VEVENT
DTSTART;TZID=Europe/Helsinki:20231017T133000
DTEND;TZID=Europe/Helsinki:20231017T153000
DTSTAMP:20260424T082720
CREATED:20230808T045636Z
LAST-MODIFIED:20230808T045636Z
UID:8183-1697549400-1697556600@www.evankeliset.net
SUMMARY:Forssa\, Siionin kannel -seurat
DESCRIPTION:
URL:https://www.evankeliset.net/tapahtuma/forssa-siionin-kannel-seurat-27/
END:VEVENT
BEGIN:VEVENT
DTSTART;TZID=Europe/Helsinki:20231022T100000
DTEND;TZID=Europe/Helsinki:20231022T130000
DTSTAMP:20260424T082720
CREATED:20230114T092412Z
LAST-MODIFIED:20231010T043641Z
UID:7635-1697968800-1697979600@www.evankeliset.net
SUMMARY:Evijärvi\, Messu ja seurat
DESCRIPTION:
URL:https://www.evankeliset.net/tapahtuma/evijarvi-messu-ja-seurat/
END:VEVENT
BEGIN:VEVENT
DTSTART;TZID=Europe/Helsinki:20231022T100000
DTEND;TZID=Europe/Helsinki:20231022T130000
DTSTAMP:20260424T082720
CREATED:20231018T040821Z
LAST-MODIFIED:20231018T040821Z
UID:8442-1697968800-1697979600@www.evankeliset.net
SUMMARY:Kouvola\, Sotiemme veteraanien kirkkopäivän messu
DESCRIPTION:
URL:https://www.evankeliset.net/tapahtuma/kouvola-sotiemme-veteraanien-kirkkopaivan-messu/
END:VEVENT
BEGIN:VEVENT
DTSTART;TZID=Europe/Helsinki:20231022T100000
DTEND;TZID=Europe/Helsinki:20231022T160000
DTSTAMP:20260424T082720
CREATED:20230303T095043Z
LAST-MODIFIED:20231010T064532Z
UID:7778-1697968800-1697990400@www.evankeliset.net
SUMMARY:Ilmajoki\, Elyn kirkkopyhä ja kiitosjuhla
DESCRIPTION:
URL:https://www.evankeliset.net/tapahtuma/ilmajoki-elyn-kirkkopyha-3/
END:VEVENT
BEGIN:VEVENT
DTSTART;TZID=Europe/Helsinki:20231022T180000
DTEND;TZID=Europe/Helsinki:20231022T193000
DTSTAMP:20260424T082720
CREATED:20230929T164808Z
LAST-MODIFIED:20230929T164808Z
UID:8366-1697997600-1698003000@www.evankeliset.net
SUMMARY:Helsinki\, Pihlajamäki
DESCRIPTION:
URL:https://www.evankeliset.net/tapahtuma/helsinki-pihlajamaki/
END:VEVENT
BEGIN:VEVENT
DTSTART;TZID=Europe/Helsinki:20231023T130000
DTEND;TZID=Europe/Helsinki:20231023T150000
DTSTAMP:20260424T082720
CREATED:20230606T103149Z
LAST-MODIFIED:20230606T103149Z
UID:8124-1698066000-1698073200@www.evankeliset.net
SUMMARY:Kurikka\, Siionin kannel -seurat
DESCRIPTION:
URL:https://www.evankeliset.net/tapahtuma/kurikka-siionin-kannel-seurat-65/
END:VEVENT
BEGIN:VEVENT
DTSTART;TZID=Europe/Helsinki:20231025T100000
DTEND;TZID=Europe/Helsinki:20231025T140000
DTSTAMP:20260424T082720
CREATED:20230823T111918Z
LAST-MODIFIED:20230823T111918Z
UID:8258-1698228000-1698242400@www.evankeliset.net
SUMMARY:Kokkola\, Lähetyssoppi
DESCRIPTION:
URL:https://www.evankeliset.net/tapahtuma/kokkola-lahetyssoppi-48/
END:VEVENT
BEGIN:VEVENT
DTSTART;TZID=Europe/Helsinki:20231026T130000
DTEND;TZID=Europe/Helsinki:20231026T150000
DTSTAMP:20260424T082720
CREATED:20230602T065209Z
LAST-MODIFIED:20230602T065324Z
UID:8090-1698325200-1698332400@www.evankeliset.net
SUMMARY:Alavus\, Hyvässä seurassa
DESCRIPTION:
URL:https://www.evankeliset.net/tapahtuma/alavus-hyvassa-seurassa-27/
END:VEVENT
BEGIN:VEVENT
DTSTART;TZID=Europe/Helsinki:20231027T110000
DTEND;TZID=Europe/Helsinki:20231027T130000
DTSTAMP:20260424T082720
CREATED:20230904T062228Z
LAST-MODIFIED:20230904T062228Z
UID:8296-1698404400-1698411600@www.evankeliset.net
SUMMARY:Salo\, Pastanttipuuro-tapahtuma
DESCRIPTION:
URL:https://www.evankeliset.net/tapahtuma/salo-pastanttipuuro-tapahtuma/
END:VEVENT
BEGIN:VEVENT
DTSTART;TZID=Europe/Helsinki:20231027T140000
DTEND;TZID=Europe/Helsinki:20231027T153000
DTSTAMP:20260424T082720
CREATED:20230321T135548Z
LAST-MODIFIED:20230816T055229Z
UID:7909-1698415200-1698420600@www.evankeliset.net
SUMMARY:Hämeenlinna\, Raamattuhetki
DESCRIPTION:
URL:https://www.evankeliset.net/tapahtuma/hameenlinna-raamattuhetki-5/
END:VEVENT
BEGIN:VEVENT
DTSTART;TZID=Europe/Helsinki:20231029T140000
DTEND;TZID=Europe/Helsinki:20231029T160000
DTSTAMP:20260424T082720
CREATED:20230512T092741Z
LAST-MODIFIED:20230914T043926Z
UID:8026-1698588000-1698595200@www.evankeliset.net
SUMMARY:Peräseinäjoki\, Siionin kannel seurat
DESCRIPTION:
URL:https://www.evankeliset.net/tapahtuma/peraseinajoki-siionin-kannel-seurat-4/
END:VEVENT
END:VCALENDAR