BEGIN:VCALENDAR
VERSION:2.0
PRODID:-//Evankelinen lähetysyhdistys ELY ry - ECPv6.15.18//NONSGML v1.0//EN
CALSCALE:GREGORIAN
METHOD:PUBLISH
X-ORIGINAL-URL:https://www.evankeliset.net
X-WR-CALDESC:Tapahtumat Evankelinen lähetysyhdistys ELY ry
REFRESH-INTERVAL;VALUE=DURATION:PT1H
X-Robots-Tag:noindex
X-PUBLISHED-TTL:PT1H
BEGIN:VTIMEZONE
TZID:Europe/Helsinki
BEGIN:DAYLIGHT
TZOFFSETFROM:+0200
TZOFFSETTO:+0300
TZNAME:EEST
DTSTART:20220327T010000
END:DAYLIGHT
BEGIN:STANDARD
TZOFFSETFROM:+0300
TZOFFSETTO:+0200
TZNAME:EET
DTSTART:20221030T010000
END:STANDARD
BEGIN:DAYLIGHT
TZOFFSETFROM:+0200
TZOFFSETTO:+0300
TZNAME:EEST
DTSTART:20230326T010000
END:DAYLIGHT
BEGIN:STANDARD
TZOFFSETFROM:+0300
TZOFFSETTO:+0200
TZNAME:EET
DTSTART:20231029T010000
END:STANDARD
BEGIN:DAYLIGHT
TZOFFSETFROM:+0200
TZOFFSETTO:+0300
TZNAME:EEST
DTSTART:20240331T010000
END:DAYLIGHT
BEGIN:STANDARD
TZOFFSETFROM:+0300
TZOFFSETTO:+0200
TZNAME:EET
DTSTART:20241027T010000
END:STANDARD
BEGIN:DAYLIGHT
TZOFFSETFROM:+0200
TZOFFSETTO:+0300
TZNAME:EEST
DTSTART:20250330T010000
END:DAYLIGHT
BEGIN:STANDARD
TZOFFSETFROM:+0300
TZOFFSETTO:+0200
TZNAME:EET
DTSTART:20251026T010000
END:STANDARD
END:VTIMEZONE
BEGIN:VEVENT
DTSTART;TZID=Europe/Helsinki:20231204T130000
DTEND;TZID=Europe/Helsinki:20231204T150000
DTSTAMP:20260424T032109
CREATED:20230606T103607Z
LAST-MODIFIED:20230606T103607Z
UID:8130-1701694800-1701702000@www.evankeliset.net
SUMMARY:Kurikka\, Siionin kannel -seurat
DESCRIPTION:
URL:https://www.evankeliset.net/tapahtuma/kurikka-siionin-kannel-seurat-68/
END:VEVENT
BEGIN:VEVENT
DTSTART;TZID=Europe/Helsinki:20231204T180000
DTEND;TZID=Europe/Helsinki:20231204T200000
DTSTAMP:20260424T032109
CREATED:20231113T061609Z
LAST-MODIFIED:20231113T061609Z
UID:8501-1701712800-1701720000@www.evankeliset.net
SUMMARY:Hyvinkää\, Siionin kannel -lauluseurat
DESCRIPTION:
URL:https://www.evankeliset.net/tapahtuma/hyvinkaa-siionin-kannel-lauluseurat/
END:VEVENT
BEGIN:VEVENT
DTSTART;TZID=Europe/Helsinki:20231207T140000
DTEND;TZID=Europe/Helsinki:20231207T160000
DTSTAMP:20260424T032109
CREATED:20230825T065525Z
LAST-MODIFIED:20230825T065525Z
UID:8276-1701957600-1701964800@www.evankeliset.net
SUMMARY:Seinäjoki\, SK-lauluryhmä Simunanrannassa
DESCRIPTION:
URL:https://www.evankeliset.net/tapahtuma/seinajoki-sk-lauluryhma-simunanrannassa-4/
END:VEVENT
BEGIN:VEVENT
DTSTART;TZID=Europe/Helsinki:20231207T150000
DTEND;TZID=Europe/Helsinki:20231207T170000
DTSTAMP:20260424T032109
CREATED:20230606T100039Z
LAST-MODIFIED:20231108T122558Z
UID:8112-1701961200-1701968400@www.evankeliset.net
SUMMARY:Tampere\, Kohti joulun valoa sävelin ja sanoin
DESCRIPTION:
URL:https://www.evankeliset.net/tapahtuma/tampere-sanaa-ja-siikkaria-3/
END:VEVENT
BEGIN:VEVENT
DTSTART;TZID=Europe/Helsinki:20231207T180000
DTEND;TZID=Europe/Helsinki:20231207T200000
DTSTAMP:20260424T032109
CREATED:20231121T084605Z
LAST-MODIFIED:20231128T120414Z
UID:8582-1701972000-1701979200@www.evankeliset.net
SUMMARY:Alahärmä\, ELYn ja HYn lauluseurat
DESCRIPTION:
URL:https://www.evankeliset.net/tapahtuma/alaharma-elyn-ja-hyn-lauluseurat/
END:VEVENT
BEGIN:VEVENT
DTSTART;TZID=Europe/Helsinki:20231210T100000
DTEND;TZID=Europe/Helsinki:20231210T120000
DTSTAMP:20260424T032109
CREATED:20230904T063315Z
LAST-MODIFIED:20231003T064607Z
UID:8308-1702202400-1702209600@www.evankeliset.net
SUMMARY:Salo\, Messu ja lähetystyöhön siunaaminen
DESCRIPTION:
URL:https://www.evankeliset.net/tapahtuma/salo-messu-ja-lahetystyohon-siunaaminen/
END:VEVENT
BEGIN:VEVENT
DTSTART;TZID=Europe/Helsinki:20231210T113000
DTEND;TZID=Europe/Helsinki:20231210T140000
DTSTAMP:20260424T032109
CREATED:20230524T102157Z
LAST-MODIFIED:20231122T101044Z
UID:8059-1702207800-1702216800@www.evankeliset.net
SUMMARY:Seinäjoki\, Maakunnallinen joulujuhla
DESCRIPTION:
URL:https://www.evankeliset.net/tapahtuma/seinajoki-maakunnallinen-joulujuhla-4/
END:VEVENT
BEGIN:VEVENT
DTSTART;TZID=Europe/Helsinki:20231212T140000
DTEND;TZID=Europe/Helsinki:20231212T160000
DTSTAMP:20260424T032109
CREATED:20231117T080300Z
LAST-MODIFIED:20231120T062832Z
UID:8577-1702389600-1702396800@www.evankeliset.net
SUMMARY:Riihimäki\, Siionin kannel -lauluseurat
DESCRIPTION:
URL:https://www.evankeliset.net/tapahtuma/riihimaki-siionin-kannel-lauluseurat-6/
END:VEVENT
BEGIN:VEVENT
DTSTART;TZID=Europe/Helsinki:20231213T180000
DTEND;TZID=Europe/Helsinki:20231213T200000
DTSTAMP:20260424T032109
CREATED:20231110T105632Z
LAST-MODIFIED:20231122T101144Z
UID:8499-1702490400-1702497600@www.evankeliset.net
SUMMARY:Nurmo\, Siionin kannel seurat
DESCRIPTION:
URL:https://www.evankeliset.net/tapahtuma/nurmo-siionin-kannel-seurat/
END:VEVENT
BEGIN:VEVENT
DTSTART;TZID=Europe/Helsinki:20231217T100000
DTEND;TZID=Europe/Helsinki:20231217T130000
DTSTAMP:20260424T032109
CREATED:20230821T112056Z
LAST-MODIFIED:20231016T053834Z
UID:8241-1702807200-1702818000@www.evankeliset.net
SUMMARY:Himanka\, Messu ja joulujuhla
DESCRIPTION:
URL:https://www.evankeliset.net/tapahtuma/himanka-messu-ja-joulujuhla/
END:VEVENT
BEGIN:VEVENT
DTSTART;TZID=Europe/Helsinki:20231217T160000
DTEND;TZID=Europe/Helsinki:20231217T200000
DTSTAMP:20260424T032109
CREATED:20231010T050606Z
LAST-MODIFIED:20231010T051356Z
UID:8421-1702828800-1702843200@www.evankeliset.net
SUMMARY:Lapua\, joulutori
DESCRIPTION:
URL:https://www.evankeliset.net/tapahtuma/lapua-joulutori/
END:VEVENT
BEGIN:VEVENT
DTSTART;TZID=Europe/Helsinki:20240101T100000
DTEND;TZID=Europe/Helsinki:20240101T130000
DTSTAMP:20260424T032109
CREATED:20231110T094847Z
LAST-MODIFIED:20231229T080317Z
UID:8495-1704103200-1704114000@www.evankeliset.net
SUMMARY:Iitti\, Kausalan srk-keskus\, Elyn kirkkopyhä
DESCRIPTION:
URL:https://www.evankeliset.net/tapahtuma/iitti-kausalan-srk-keskus-elyn-kirkkopyha/
END:VEVENT
BEGIN:VEVENT
DTSTART;TZID=Europe/Helsinki:20240105T140000
DTEND;TZID=Europe/Helsinki:20240105T153000
DTSTAMP:20260424T032109
CREATED:20231117T062428Z
LAST-MODIFIED:20231117T062428Z
UID:8567-1704463200-1704468600@www.evankeliset.net
SUMMARY:Hämeenlinna\, Raamattuhetki
DESCRIPTION:
URL:https://www.evankeliset.net/tapahtuma/hameenlinna-raamattuhetki-6/
END:VEVENT
BEGIN:VEVENT
DTSTART;TZID=Europe/Helsinki:20240106T100000
DTEND;TZID=Europe/Helsinki:20240106T130000
DTSTAMP:20260424T032109
CREATED:20231110T092847Z
LAST-MODIFIED:20231110T092847Z
UID:8487-1704535200-1704546000@www.evankeliset.net
SUMMARY:Elimäki Koria\, Elyn kirkkopyhä
DESCRIPTION:
URL:https://www.evankeliset.net/tapahtuma/elimaki-koria-elyn-kirkkopyha-2/
END:VEVENT
BEGIN:VEVENT
DTSTART;TZID=Europe/Helsinki:20240107T100000
DTEND;TZID=Europe/Helsinki:20240107T120000
DTSTAMP:20260424T032109
CREATED:20231122T104215Z
LAST-MODIFIED:20231122T104215Z
UID:8594-1704621600-1704628800@www.evankeliset.net
SUMMARY:Espoo\, Työhön siunaaminen
DESCRIPTION:
URL:https://www.evankeliset.net/tapahtuma/espoo-tyohon-siunaaminen/
END:VEVENT
BEGIN:VEVENT
DTSTART;TZID=Europe/Helsinki:20240107T160000
DTEND;TZID=Europe/Helsinki:20240107T180000
DTSTAMP:20260424T032109
CREATED:20231010T070433Z
LAST-MODIFIED:20240103T085716Z
UID:8427-1704643200-1704650400@www.evankeliset.net
SUMMARY:Lapua\, Lyhtyilta
DESCRIPTION:
URL:https://www.evankeliset.net/tapahtuma/lapua-lyhtyilta-3/
END:VEVENT
BEGIN:VEVENT
DTSTART;TZID=Europe/Helsinki:20240108T130000
DTEND;TZID=Europe/Helsinki:20240108T150000
DTSTAMP:20260424T032109
CREATED:20231115T135650Z
LAST-MODIFIED:20231115T135650Z
UID:8529-1704718800-1704726000@www.evankeliset.net
SUMMARY:Kurikka\, Siionin kannel -seurat
DESCRIPTION:
URL:https://www.evankeliset.net/tapahtuma/kurikka-siionin-kannel-seurat-69/
END:VEVENT
BEGIN:VEVENT
DTSTART;TZID=Europe/Helsinki:20240108T150000
DTEND;TZID=Europe/Helsinki:20240108T170000
DTSTAMP:20260424T032109
CREATED:20240108T081745Z
LAST-MODIFIED:20240108T081745Z
UID:8691-1704726000-1704733200@www.evankeliset.net
SUMMARY:Tampere\, Siionin kannel -seurat
DESCRIPTION:
URL:https://www.evankeliset.net/tapahtuma/tampere-siionin-kannel-seurat-2/
END:VEVENT
BEGIN:VEVENT
DTSTART;TZID=Europe/Helsinki:20240111T140000
DTEND;TZID=Europe/Helsinki:20240111T160000
DTSTAMP:20260424T032109
CREATED:20231115T135920Z
LAST-MODIFIED:20240108T113839Z
UID:8531-1704981600-1704988800@www.evankeliset.net
SUMMARY:Kauhajoki\, Siionin kannel -seurat
DESCRIPTION:
URL:https://www.evankeliset.net/tapahtuma/kauhajoki-siionin-kannel-seurat-26/
END:VEVENT
BEGIN:VEVENT
DTSTART;TZID=Europe/Helsinki:20240117T133000
DTEND;TZID=Europe/Helsinki:20240117T153000
DTSTAMP:20260424T032109
CREATED:20231115T121625Z
LAST-MODIFIED:20231115T121625Z
UID:8517-1705498200-1705505400@www.evankeliset.net
SUMMARY:Kokkola\, Lauluhetki päiväkahvin aikaan
DESCRIPTION:
URL:https://www.evankeliset.net/tapahtuma/kokkola-lauluhetki-paivakahvin-aikaan/
END:VEVENT
BEGIN:VEVENT
DTSTART;TZID=Europe/Helsinki:20240118T123000
DTEND;TZID=Europe/Helsinki:20240118T143000
DTSTAMP:20260424T032109
CREATED:20231102T112937Z
LAST-MODIFIED:20240108T114707Z
UID:8454-1705581000-1705588200@www.evankeliset.net
SUMMARY:Alavus\, Hyvässä seurassa
DESCRIPTION:
URL:https://www.evankeliset.net/tapahtuma/alavus-hyvassa-seurassa-29/
END:VEVENT
BEGIN:VEVENT
DTSTART;TZID=Europe/Helsinki:20240121T100000
DTEND;TZID=Europe/Helsinki:20240121T120000
DTSTAMP:20260424T032109
CREATED:20231122T104409Z
LAST-MODIFIED:20240119T121451Z
UID:8597-1705831200-1705838400@www.evankeliset.net
SUMMARY:Espoo\, Olari\, Messu ja työhön siunaaminen
DESCRIPTION:
URL:https://www.evankeliset.net/tapahtuma/espoo-olari-tyohon-siunaaminen/
END:VEVENT
BEGIN:VEVENT
DTSTART;TZID=Europe/Helsinki:20240121T140000
DTEND;TZID=Europe/Helsinki:20240121T150000
DTSTAMP:20260424T032109
CREATED:20231116T144626Z
LAST-MODIFIED:20231218T091017Z
UID:8564-1705845600-1705849200@www.evankeliset.net
SUMMARY:Seinäjoki\, Siionin kannel seurat
DESCRIPTION:
URL:https://www.evankeliset.net/tapahtuma/seinajoki-siionin-kannel-seurat-14/
END:VEVENT
BEGIN:VEVENT
DTSTART;TZID=Europe/Helsinki:20240122T130000
DTEND;TZID=Europe/Helsinki:20240122T150000
DTSTAMP:20260424T032109
CREATED:20231115T140022Z
LAST-MODIFIED:20231115T140022Z
UID:8533-1705928400-1705935600@www.evankeliset.net
SUMMARY:Kurikka\, Siionin kannel -seurat
DESCRIPTION:
URL:https://www.evankeliset.net/tapahtuma/kurikka-siionin-kannel-seurat-70/
END:VEVENT
BEGIN:VEVENT
DTSTART;TZID=Europe/Helsinki:20240123T110000
DTEND;TZID=Europe/Helsinki:20240123T150000
DTSTAMP:20260424T032109
CREATED:20231115T140138Z
LAST-MODIFIED:20231115T140138Z
UID:8535-1706007600-1706022000@www.evankeliset.net
SUMMARY:Kokkola\, Lähetyssoppi
DESCRIPTION:
URL:https://www.evankeliset.net/tapahtuma/kokkola-lahetyssoppi-49/
END:VEVENT
BEGIN:VEVENT
DTSTART;TZID=Europe/Helsinki:20240125T173000
DTEND;TZID=Europe/Helsinki:20240125T193000
DTSTAMP:20260424T032109
CREATED:20240108T082018Z
LAST-MODIFIED:20240117T061742Z
UID:8693-1706203800-1706211000@www.evankeliset.net
SUMMARY:Tampere\, Kahvia\, sanaa ja Siionin kanteleen toivelauluja
DESCRIPTION:
URL:https://www.evankeliset.net/tapahtuma/tampere-kaukajarvi-siionin-kannel-seurat/
END:VEVENT
BEGIN:VEVENT
DTSTART;TZID=Europe/Helsinki:20240128T100000
DTEND;TZID=Europe/Helsinki:20240128T130000
DTSTAMP:20260424T032109
CREATED:20240117T081907Z
LAST-MODIFIED:20240117T081907Z
UID:8822-1706436000-1706446800@www.evankeliset.net
SUMMARY:Toholampi\, Elyn kirkkopyhä
DESCRIPTION:
URL:https://www.evankeliset.net/tapahtuma/toholampi-elyn-kirkkopyha-5/
END:VEVENT
BEGIN:VEVENT
DTSTART;TZID=Europe/Helsinki:20240128T120000
DTEND;TZID=Europe/Helsinki:20240128T150000
DTSTAMP:20260424T032109
CREATED:20240119T121956Z
LAST-MODIFIED:20240119T121956Z
UID:8862-1706443200-1706454000@www.evankeliset.net
SUMMARY:Espoo\, Kyläkirkko Kauklahden kappelissa
DESCRIPTION:
URL:https://www.evankeliset.net/tapahtuma/espoo-kylakirkko-kauklahden-kappelissa/
END:VEVENT
BEGIN:VEVENT
DTSTART;TZID=Europe/Helsinki:20240202T140000
DTEND;TZID=Europe/Helsinki:20240202T153000
DTSTAMP:20260424T032109
CREATED:20231117T062535Z
LAST-MODIFIED:20231117T062535Z
UID:8569-1706882400-1706887800@www.evankeliset.net
SUMMARY:Hämeenlinna\, Raamattuhetki
DESCRIPTION:
URL:https://www.evankeliset.net/tapahtuma/hameenlinna-raamattuhetki-7/
END:VEVENT
BEGIN:VEVENT
DTSTART;TZID=Europe/Helsinki:20240204T100000
DTEND;TZID=Europe/Helsinki:20240204T130000
DTSTAMP:20260424T032109
CREATED:20231103T103139Z
LAST-MODIFIED:20231113T164942Z
UID:8464-1707040800-1707051600@www.evankeliset.net
SUMMARY:Kuortane\, kirkkopyhä
DESCRIPTION:
URL:https://www.evankeliset.net/tapahtuma/kuortane-kirkkopyha-2/
END:VEVENT
END:VCALENDAR