BEGIN:VCALENDAR
VERSION:2.0
PRODID:-//Evankelinen lähetysyhdistys ELY ry - ECPv6.15.18//NONSGML v1.0//EN
CALSCALE:GREGORIAN
METHOD:PUBLISH
X-ORIGINAL-URL:https://www.evankeliset.net
X-WR-CALDESC:Tapahtumat Evankelinen lähetysyhdistys ELY ry
REFRESH-INTERVAL;VALUE=DURATION:PT1H
X-Robots-Tag:noindex
X-PUBLISHED-TTL:PT1H
BEGIN:VTIMEZONE
TZID:Europe/Helsinki
BEGIN:DAYLIGHT
TZOFFSETFROM:+0200
TZOFFSETTO:+0300
TZNAME:EEST
DTSTART:20230326T010000
END:DAYLIGHT
BEGIN:STANDARD
TZOFFSETFROM:+0300
TZOFFSETTO:+0200
TZNAME:EET
DTSTART:20231029T010000
END:STANDARD
BEGIN:DAYLIGHT
TZOFFSETFROM:+0200
TZOFFSETTO:+0300
TZNAME:EEST
DTSTART:20240331T010000
END:DAYLIGHT
BEGIN:STANDARD
TZOFFSETFROM:+0300
TZOFFSETTO:+0200
TZNAME:EET
DTSTART:20241027T010000
END:STANDARD
BEGIN:DAYLIGHT
TZOFFSETFROM:+0200
TZOFFSETTO:+0300
TZNAME:EEST
DTSTART:20250330T010000
END:DAYLIGHT
BEGIN:STANDARD
TZOFFSETFROM:+0300
TZOFFSETTO:+0200
TZNAME:EET
DTSTART:20251026T010000
END:STANDARD
END:VTIMEZONE
BEGIN:VEVENT
DTSTART;TZID=Europe/Helsinki:20240228T123000
DTEND;TZID=Europe/Helsinki:20240228T133000
DTSTAMP:20260424T001550
CREATED:20231128T121253Z
LAST-MODIFIED:20231128T121253Z
UID:8615-1709123400-1709127000@www.evankeliset.net
SUMMARY:Jalasjärvi\, Siionin kannel seurat
DESCRIPTION:
URL:https://www.evankeliset.net/tapahtuma/jalasjarvi-siionin-kannel-seurat-11/
END:VEVENT
BEGIN:VEVENT
DTSTART;TZID=Europe/Helsinki:20240228T180000
DTEND;TZID=Europe/Helsinki:20240228T200000
DTSTAMP:20260424T001550
CREATED:20240119T123426Z
LAST-MODIFIED:20240119T123426Z
UID:8868-1709143200-1709150400@www.evankeliset.net
SUMMARY:Espoo\, Olari\, Iloisten laulujen ilta
DESCRIPTION:
URL:https://www.evankeliset.net/tapahtuma/espoo-olari-iloisten-laulujen-ilta/
END:VEVENT
BEGIN:VEVENT
DTSTART;TZID=Europe/Helsinki:20240301T160000
DTEND;TZID=Europe/Helsinki:20240301T173000
DTSTAMP:20260424T001550
CREATED:20231117T062637Z
LAST-MODIFIED:20231117T062637Z
UID:8571-1709308800-1709314200@www.evankeliset.net
SUMMARY:Hämeenlinna\, Raamattuhetki
DESCRIPTION:
URL:https://www.evankeliset.net/tapahtuma/hameenlinna-raamattuhetki-8/
END:VEVENT
BEGIN:VEVENT
DTSTART;TZID=Europe/Helsinki:20240303T100000
DTEND;TZID=Europe/Helsinki:20240303T130000
DTSTAMP:20260424T001550
CREATED:20240119T123753Z
LAST-MODIFIED:20240119T123753Z
UID:8870-1709460000-1709470800@www.evankeliset.net
SUMMARY:Kirkkonummi\, Messu ja lähetystilaisuus
DESCRIPTION:
URL:https://www.evankeliset.net/tapahtuma/kirkkonummi-messu-ja-lahetystilaisuus/
END:VEVENT
BEGIN:VEVENT
DTSTART;TZID=Europe/Helsinki:20240303T100000
DTEND;TZID=Europe/Helsinki:20240303T140000
DTSTAMP:20260424T001550
CREATED:20240108T120223Z
LAST-MODIFIED:20240110T081118Z
UID:8752-1709460000-1709474400@www.evankeliset.net
SUMMARY:Laihia\, Lähetyspyhä
DESCRIPTION:
URL:https://www.evankeliset.net/tapahtuma/laihia-lahetyspyha/
END:VEVENT
BEGIN:VEVENT
DTSTART;TZID=Europe/Helsinki:20240304T130000
DTEND;TZID=Europe/Helsinki:20240304T150000
DTSTAMP:20260424T001550
CREATED:20231115T140952Z
LAST-MODIFIED:20240104T093133Z
UID:8546-1709557200-1709564400@www.evankeliset.net
SUMMARY:Kurikka\, Siionin kannel -seurat
DESCRIPTION:
URL:https://www.evankeliset.net/tapahtuma/kurikka-siionin-kannel-seurat-73/
END:VEVENT
BEGIN:VEVENT
DTSTART;TZID=Europe/Helsinki:20240304T150000
DTEND;TZID=Europe/Helsinki:20240304T170000
DTSTAMP:20260424T001550
CREATED:20240108T082456Z
LAST-MODIFIED:20240304T081822Z
UID:8699-1709564400-1709571600@www.evankeliset.net
SUMMARY:Tampere\, Siionin kannel -seurat
DESCRIPTION:
URL:https://www.evankeliset.net/tapahtuma/tampere-siionin-kannel-seurat-4/
END:VEVENT
BEGIN:VEVENT
DTSTART;TZID=Europe/Helsinki:20240305T140000
DTEND;TZID=Europe/Helsinki:20240305T143000
DTSTAMP:20260424T001550
CREATED:20240305T140941Z
LAST-MODIFIED:20240305T154119Z
UID:9025-1709647200-1709649000@www.evankeliset.net
SUMMARY:Iitti Kausala\, kahvitupa
DESCRIPTION:
URL:https://www.evankeliset.net/tapahtuma/iitti-kausala-kahvitupa/
END:VEVENT
BEGIN:VEVENT
DTSTART;TZID=Europe/Helsinki:20240305T180000
DTEND;TZID=Europe/Helsinki:20240305T200000
DTSTAMP:20260424T001550
CREATED:20240117T090329Z
LAST-MODIFIED:20240117T090329Z
UID:8830-1709661600-1709668800@www.evankeliset.net
SUMMARY:Ylistaro\, lähetysseurat
DESCRIPTION:
URL:https://www.evankeliset.net/tapahtuma/ylistaro-lahetysseurat/
END:VEVENT
BEGIN:VEVENT
DTSTART;TZID=Europe/Helsinki:20240306T140000
DTEND;TZID=Europe/Helsinki:20240306T153000
DTSTAMP:20260424T001550
CREATED:20240115T131923Z
LAST-MODIFIED:20240129T140230Z
UID:8807-1709733600-1709739000@www.evankeliset.net
SUMMARY:Järvenpää\, Lähetyspiiri
DESCRIPTION:
URL:https://www.evankeliset.net/tapahtuma/jarvenpaa-lahetyspiiri-5/
END:VEVENT
BEGIN:VEVENT
DTSTART;TZID=Europe/Helsinki:20240307T110000
DTEND;TZID=Europe/Helsinki:20240307T150000
DTSTAMP:20260424T001550
CREATED:20240108T115355Z
LAST-MODIFIED:20240108T115355Z
UID:8740-1709809200-1709823600@www.evankeliset.net
SUMMARY:Kokkola\, Lähetyssoppi
DESCRIPTION:
URL:https://www.evankeliset.net/tapahtuma/kokkola-lahetyssoppi-51/
END:VEVENT
BEGIN:VEVENT
DTSTART;TZID=Europe/Helsinki:20240307T120000
DTEND;TZID=Europe/Helsinki:20240307T130000
DTSTAMP:20260424T001550
CREATED:20240110T120807Z
LAST-MODIFIED:20240110T120807Z
UID:8771-1709812800-1709816400@www.evankeliset.net
SUMMARY:Nurmo\, Olotilan kiikkustuolivieras
DESCRIPTION:
URL:https://www.evankeliset.net/tapahtuma/nurmo-olotilan-kiikkustuolivieras/
END:VEVENT
BEGIN:VEVENT
DTSTART;TZID=Europe/Helsinki:20240310T100000
DTEND;TZID=Europe/Helsinki:20240310T140000
DTSTAMP:20260424T001550
CREATED:20230914T044409Z
LAST-MODIFIED:20240215T095649Z
UID:8343-1710064800-1710079200@www.evankeliset.net
SUMMARY:Peräseinäjoki\, Elyn kirkkopyhä
DESCRIPTION:
URL:https://www.evankeliset.net/tapahtuma/peraseinajoki-elyn-kirkkopyha-5/
END:VEVENT
BEGIN:VEVENT
DTSTART;TZID=Europe/Helsinki:20240310T100000
DTEND;TZID=Europe/Helsinki:20240310T160000
DTSTAMP:20260424T001550
CREATED:20231130T073649Z
LAST-MODIFIED:20231130T073649Z
UID:8626-1710064800-1710086400@www.evankeliset.net
SUMMARY:Lohtaja\, Lähetyspyhä
DESCRIPTION:
URL:https://www.evankeliset.net/tapahtuma/lohtaja-lahetyspyha/
END:VEVENT
BEGIN:VEVENT
DTSTART;TZID=Europe/Helsinki:20240310T180000
DTEND;TZID=Europe/Helsinki:20240310T200000
DTSTAMP:20260424T001550
CREATED:20240124T103044Z
LAST-MODIFIED:20240124T103044Z
UID:8877-1710093600-1710100800@www.evankeliset.net
SUMMARY:Lohtaja\, Siionin kannel seurat
DESCRIPTION:
URL:https://www.evankeliset.net/tapahtuma/lohtaja-siionin-kannel-seurat/
END:VEVENT
BEGIN:VEVENT
DTSTART;TZID=Europe/Helsinki:20240311T100000
DTEND;TZID=Europe/Helsinki:20240311T110000
DTSTAMP:20260424T001550
CREATED:20231130T073908Z
LAST-MODIFIED:20231130T074027Z
UID:8628-1710151200-1710154800@www.evankeliset.net
SUMMARY:Lohtaja\, Juttukahvila
DESCRIPTION:
URL:https://www.evankeliset.net/tapahtuma/lohtaja-juttukahvila/
END:VEVENT
BEGIN:VEVENT
DTSTART;TZID=Europe/Helsinki:20240311T180000
DTEND;TZID=Europe/Helsinki:20240311T200000
DTSTAMP:20260424T001550
CREATED:20231130T074224Z
LAST-MODIFIED:20231130T074224Z
UID:8631-1710180000-1710187200@www.evankeliset.net
SUMMARY:Kokkola\, Ilta lähetykselle
DESCRIPTION:
URL:https://www.evankeliset.net/tapahtuma/kokkola-ilta-lahetykselle-2/
END:VEVENT
BEGIN:VEVENT
DTSTART;TZID=Europe/Helsinki:20240313T180000
DTEND;TZID=Europe/Helsinki:20240313T200000
DTSTAMP:20260424T001550
CREATED:20240108T115650Z
LAST-MODIFIED:20240124T105408Z
UID:8748-1710352800-1710360000@www.evankeliset.net
SUMMARY:Lapua\, Lyhtyilta
DESCRIPTION:
URL:https://www.evankeliset.net/tapahtuma/lapua-lyhtyilta-4/
END:VEVENT
BEGIN:VEVENT
DTSTART;TZID=Europe/Helsinki:20240314T140000
DTEND;TZID=Europe/Helsinki:20240314T160000
DTSTAMP:20260424T001550
CREATED:20231115T141142Z
LAST-MODIFIED:20240108T114110Z
UID:8548-1710424800-1710432000@www.evankeliset.net
SUMMARY:Kauhajoki\, Siionin kannel -seurat
DESCRIPTION:
URL:https://www.evankeliset.net/tapahtuma/kauhajoki-siionin-kannel-seurat-28/
END:VEVENT
BEGIN:VEVENT
DTSTART;TZID=Europe/Helsinki:20240314T180000
DTEND;TZID=Europe/Helsinki:20240314T200000
DTSTAMP:20260424T001550
CREATED:20240205T133613Z
LAST-MODIFIED:20240205T133613Z
UID:8931-1710439200-1710446400@www.evankeliset.net
SUMMARY:Seinäjoki\, Inkeri-ilta
DESCRIPTION:
URL:https://www.evankeliset.net/tapahtuma/seinajoki-inkeri-ilta-2/
END:VEVENT
BEGIN:VEVENT
DTSTART;TZID=Europe/Helsinki:20240315T110000
DTEND;TZID=Europe/Helsinki:20240315T130000
DTSTAMP:20260424T001550
CREATED:20240201T104415Z
LAST-MODIFIED:20240201T104415Z
UID:8901-1710500400-1710507600@www.evankeliset.net
SUMMARY:Salo\, Pastanttipuurotapahtuma
DESCRIPTION:
URL:https://www.evankeliset.net/tapahtuma/salo-pastanttipuurotapahtuma/
END:VEVENT
BEGIN:VEVENT
DTSTART;TZID=Europe/Helsinki:20240316T120000
DTEND;TZID=Europe/Helsinki:20240317T143000
DTSTAMP:20260424T001550
CREATED:20240305T155206Z
LAST-MODIFIED:20240305T155206Z
UID:9033-1710590400-1710685800@www.evankeliset.net
SUMMARY:Kitee\, hengellinen viikonloppu
DESCRIPTION:
URL:https://www.evankeliset.net/tapahtuma/kitee-hengellinen-viikonloppu-5/
END:VEVENT
BEGIN:VEVENT
DTSTART;TZID=Europe/Helsinki:20240318T130000
DTEND;TZID=Europe/Helsinki:20240318T150000
DTSTAMP:20260424T001550
CREATED:20231115T141257Z
LAST-MODIFIED:20240311T081809Z
UID:8550-1710766800-1710774000@www.evankeliset.net
SUMMARY:Kurikka\, Siionin kannel -seurat
DESCRIPTION:
URL:https://www.evankeliset.net/tapahtuma/kurikka-siionin-kannel-seurat-74/
END:VEVENT
BEGIN:VEVENT
DTSTART;TZID=Europe/Helsinki:20240318T130000
DTEND;TZID=Europe/Helsinki:20240318T150000
DTSTAMP:20260424T001550
CREATED:20240201T104215Z
LAST-MODIFIED:20240201T104215Z
UID:8899-1710766800-1710774000@www.evankeliset.net
SUMMARY:Salo\, Päiväkahviseurat
DESCRIPTION:
URL:https://www.evankeliset.net/tapahtuma/salo-paivakahviseurat/
END:VEVENT
BEGIN:VEVENT
DTSTART;TZID=Europe/Helsinki:20240318T140000
DTEND;TZID=Europe/Helsinki:20240318T153000
DTSTAMP:20260424T001550
CREATED:20240216T061448Z
LAST-MODIFIED:20240216T061918Z
UID:8985-1710770400-1710775800@www.evankeliset.net
SUMMARY:Kouvola\, Evankelinen lähetyspiiri
DESCRIPTION:
URL:https://www.evankeliset.net/tapahtuma/kouvola-evankelinen-lahetyspiiri-8/
END:VEVENT
BEGIN:VEVENT
DTSTART;TZID=Europe/Helsinki:20240318T180000
DTEND;TZID=Europe/Helsinki:20240318T193000
DTSTAMP:20260424T001550
CREATED:20240305T155455Z
LAST-MODIFIED:20240305T155455Z
UID:9035-1710784800-1710790200@www.evankeliset.net
SUMMARY:Kuhmo\, lähetysilta
DESCRIPTION:
URL:https://www.evankeliset.net/tapahtuma/kuhmo-lahetysilta/
END:VEVENT
BEGIN:VEVENT
DTSTART;TZID=Europe/Helsinki:20240320T100000
DTEND;TZID=Europe/Helsinki:20240320T150000
DTSTAMP:20260424T001550
CREATED:20240212T070226Z
LAST-MODIFIED:20240212T070226Z
UID:8964-1710928800-1710946800@www.evankeliset.net
SUMMARY:Lemi\, Merjan vierailut
DESCRIPTION:
URL:https://www.evankeliset.net/tapahtuma/lemi-merjan-vierailut/
END:VEVENT
BEGIN:VEVENT
DTSTART;TZID=Europe/Helsinki:20240320T180000
DTEND;TZID=Europe/Helsinki:20240320T200000
DTSTAMP:20260424T001550
CREATED:20240201T104654Z
LAST-MODIFIED:20240222T075611Z
UID:8903-1710957600-1710964800@www.evankeliset.net
SUMMARY:Espoo\, Olari\, Iloisten laulujen -ilta
DESCRIPTION:
URL:https://www.evankeliset.net/tapahtuma/espoo-tapiola-iloisten-laulujen-ilta/
END:VEVENT
BEGIN:VEVENT
DTSTART;TZID=Europe/Helsinki:20240321T080000
DTEND;TZID=Europe/Helsinki:20240321T170000
DTSTAMP:20260424T001550
CREATED:20240212T070505Z
LAST-MODIFIED:20240212T070505Z
UID:8966-1711008000-1711040400@www.evankeliset.net
SUMMARY:Taipale\, lähetyspiiri
DESCRIPTION:
URL:https://www.evankeliset.net/tapahtuma/taipale-lahetyspiiri/
END:VEVENT
BEGIN:VEVENT
DTSTART;TZID=Europe/Helsinki:20240321T123000
DTEND;TZID=Europe/Helsinki:20240321T143000
DTSTAMP:20260424T001550
CREATED:20231102T113455Z
LAST-MODIFIED:20240311T081855Z
UID:8458-1711024200-1711031400@www.evankeliset.net
SUMMARY:Alavus\, Hyvässä seurassa
DESCRIPTION:
URL:https://www.evankeliset.net/tapahtuma/alavus-hyvassa-seurassa-31/
END:VEVENT
END:VCALENDAR