BEGIN:VCALENDAR
VERSION:2.0
PRODID:-//Evankelinen lähetysyhdistys ELY ry - ECPv6.15.18//NONSGML v1.0//EN
CALSCALE:GREGORIAN
METHOD:PUBLISH
X-ORIGINAL-URL:https://www.evankeliset.net
X-WR-CALDESC:Tapahtumat Evankelinen lähetysyhdistys ELY ry
REFRESH-INTERVAL;VALUE=DURATION:PT1H
X-Robots-Tag:noindex
X-PUBLISHED-TTL:PT1H
BEGIN:VTIMEZONE
TZID:Europe/Helsinki
BEGIN:DAYLIGHT
TZOFFSETFROM:+0200
TZOFFSETTO:+0300
TZNAME:EEST
DTSTART:20230326T010000
END:DAYLIGHT
BEGIN:STANDARD
TZOFFSETFROM:+0300
TZOFFSETTO:+0200
TZNAME:EET
DTSTART:20231029T010000
END:STANDARD
BEGIN:DAYLIGHT
TZOFFSETFROM:+0200
TZOFFSETTO:+0300
TZNAME:EEST
DTSTART:20240331T010000
END:DAYLIGHT
BEGIN:STANDARD
TZOFFSETFROM:+0300
TZOFFSETTO:+0200
TZNAME:EET
DTSTART:20241027T010000
END:STANDARD
BEGIN:DAYLIGHT
TZOFFSETFROM:+0200
TZOFFSETTO:+0300
TZNAME:EEST
DTSTART:20250330T010000
END:DAYLIGHT
BEGIN:STANDARD
TZOFFSETFROM:+0300
TZOFFSETTO:+0200
TZNAME:EET
DTSTART:20251026T010000
END:STANDARD
END:VTIMEZONE
BEGIN:VEVENT
DTSTART;TZID=Europe/Helsinki:20240602T100000
DTEND;TZID=Europe/Helsinki:20240602T130000
DTSTAMP:20260423T203736
CREATED:20240112T132024Z
LAST-MODIFIED:20240112T132024Z
UID:8782-1717322400-1717333200@www.evankeliset.net
SUMMARY:Saarijärvi\, Elyn kirkkopyhä
DESCRIPTION:
URL:https://www.evankeliset.net/tapahtuma/saarijarvi-elyn-kirkkopyha-2/
END:VEVENT
BEGIN:VEVENT
DTSTART;TZID=Europe/Helsinki:20240603T150000
DTEND;TZID=Europe/Helsinki:20240603T170000
DTSTAMP:20260423T203736
CREATED:20240311T131658Z
LAST-MODIFIED:20240311T131658Z
UID:9051-1717426800-1717434000@www.evankeliset.net
SUMMARY:Espoo\, Iloisten laulujen iltapäivä
DESCRIPTION:
URL:https://www.evankeliset.net/tapahtuma/espoo-iloisten-laulujen-iltapaiva-2/
END:VEVENT
BEGIN:VEVENT
DTSTART;VALUE=DATE:20240607
DTEND;VALUE=DATE:20240610
DTSTAMP:20260423T203736
CREATED:20231127T091233Z
LAST-MODIFIED:20240325T074839Z
UID:8605-1717718400-1717977599@www.evankeliset.net
SUMMARY:Hamina\, Evankeliset kesäjuhlat
DESCRIPTION:
URL:https://www.evankeliset.net/tapahtuma/hamina-evankeliset-kesajuhlat/
END:VEVENT
BEGIN:VEVENT
DTSTART;TZID=Europe/Helsinki:20240610T150000
DTEND;TZID=Europe/Helsinki:20240610T170000
DTSTAMP:20260423T203736
CREATED:20240311T131829Z
LAST-MODIFIED:20240311T131829Z
UID:9053-1718031600-1718038800@www.evankeliset.net
SUMMARY:Espoo\, Iloisten laulujen iltapäivä
DESCRIPTION:
URL:https://www.evankeliset.net/tapahtuma/espoo-iloisten-laulujen-iltapaiva-3/
END:VEVENT
BEGIN:VEVENT
DTSTART;TZID=Europe/Helsinki:20240611T180000
DTEND;TZID=Europe/Helsinki:20240611T200000
DTSTAMP:20260423T203736
CREATED:20240506T102650Z
LAST-MODIFIED:20240506T102650Z
UID:9255-1718128800-1718136000@www.evankeliset.net
SUMMARY:Hyvinkää\, Siionin kanteleen seurat
DESCRIPTION:
URL:https://www.evankeliset.net/tapahtuma/hyvinkaa-siionin-kanteleen-seurat/
END:VEVENT
BEGIN:VEVENT
DTSTART;TZID=Europe/Helsinki:20240612T170000
DTEND;TZID=Europe/Helsinki:20240612T190000
DTSTAMP:20260423T203736
CREATED:20240515T110152Z
LAST-MODIFIED:20240515T110152Z
UID:9280-1718211600-1718218800@www.evankeliset.net
SUMMARY:Ilmajoki\, Takakontti-peräkloosterikirppari-laulajaaset
DESCRIPTION:
URL:https://www.evankeliset.net/tapahtuma/ilmajoki-takakontti-perakloosterikirppari-laulajaaset/
END:VEVENT
BEGIN:VEVENT
DTSTART;TZID=Europe/Helsinki:20240612T190000
DTEND;TZID=Europe/Helsinki:20240612T210000
DTSTAMP:20260423T203736
CREATED:20240503T060504Z
LAST-MODIFIED:20240513T074921Z
UID:9237-1718218800-1718226000@www.evankeliset.net
SUMMARY:Lapua\, Kesäkirkko
DESCRIPTION:
URL:https://www.evankeliset.net/tapahtuma/lapua-kesakirkko-5/
END:VEVENT
BEGIN:VEVENT
DTSTART;TZID=Europe/Helsinki:20240614T100000
DTEND;TZID=Europe/Helsinki:20240614T130000
DTSTAMP:20260423T203736
CREATED:20240528T055434Z
LAST-MODIFIED:20240528T055540Z
UID:9305-1718359200-1718370000@www.evankeliset.net
SUMMARY:Alahärmä\, Isovanhempi lapsenlapsipäivä
DESCRIPTION:
URL:https://www.evankeliset.net/tapahtuma/alaharma-isovanhempi-lapsenlapsipaiva-4/
END:VEVENT
BEGIN:VEVENT
DTSTART;TZID=Europe/Helsinki:20240616T190000
DTEND;TZID=Europe/Helsinki:20240616T210000
DTSTAMP:20260423T203736
CREATED:20240503T060630Z
LAST-MODIFIED:20240513T074816Z
UID:9239-1718564400-1718571600@www.evankeliset.net
SUMMARY:Lapua\, Kesäkirkko
DESCRIPTION:
URL:https://www.evankeliset.net/tapahtuma/lapua-kesakirkko-6/
END:VEVENT
BEGIN:VEVENT
DTSTART;TZID=Europe/Helsinki:20240618T100000
DTEND;TZID=Europe/Helsinki:20240618T140000
DTSTAMP:20260423T203736
CREATED:20240515T110537Z
LAST-MODIFIED:20240515T110537Z
UID:9282-1718704800-1718719200@www.evankeliset.net
SUMMARY:Kurikka\, Elyn toripäivä
DESCRIPTION:
URL:https://www.evankeliset.net/tapahtuma/kurikka-elyn-toripaiva-2/
END:VEVENT
BEGIN:VEVENT
DTSTART;TZID=Europe/Helsinki:20240618T180000
DTEND;TZID=Europe/Helsinki:20240618T200000
DTSTAMP:20260423T203736
CREATED:20240513T120231Z
LAST-MODIFIED:20240513T120231Z
UID:9274-1718733600-1718740800@www.evankeliset.net
SUMMARY:Himanka\, Pihaseurat
DESCRIPTION:
URL:https://www.evankeliset.net/tapahtuma/himanka-pihaseurat/
END:VEVENT
BEGIN:VEVENT
DTSTART;TZID=Europe/Helsinki:20240619T180000
DTEND;TZID=Europe/Helsinki:20240619T200000
DTSTAMP:20260423T203736
CREATED:20240530T051856Z
LAST-MODIFIED:20240530T051856Z
UID:9315-1718820000-1718827200@www.evankeliset.net
SUMMARY:Espoo\, Kesäilta Suvelan kappelilla
DESCRIPTION:
URL:https://www.evankeliset.net/tapahtuma/espoo-kesailta-suvelan-kappelilla/
END:VEVENT
BEGIN:VEVENT
DTSTART;TZID=Europe/Helsinki:20240626T180000
DTEND;TZID=Europe/Helsinki:20240626T200000
DTSTAMP:20260423T203736
CREATED:20240528T043342Z
LAST-MODIFIED:20240530T112520Z
UID:9303-1719424800-1719432000@www.evankeliset.net
SUMMARY:Kuortane\, Kotaseurat
DESCRIPTION:
URL:https://www.evankeliset.net/tapahtuma/kuortane-laavuseurat/
END:VEVENT
BEGIN:VEVENT
DTSTART;TZID=Europe/Helsinki:20240717T180000
DTEND;TZID=Europe/Helsinki:20240717T200000
DTSTAMP:20260423T203736
CREATED:20240424T103230Z
LAST-MODIFIED:20240424T103506Z
UID:9155-1721239200-1721246400@www.evankeliset.net
SUMMARY:Nurmo\, Kirkkopihahartaus
DESCRIPTION:
URL:https://www.evankeliset.net/tapahtuma/nurmo-kirkkopihahartaus/
END:VEVENT
BEGIN:VEVENT
DTSTART;TZID=Europe/Helsinki:20240728T110000
DTEND;TZID=Europe/Helsinki:20240728T130000
DTSTAMP:20260423T203736
CREATED:20240620T060039Z
LAST-MODIFIED:20240620T060039Z
UID:9387-1722164400-1722171600@www.evankeliset.net
SUMMARY:Espoo\, Olari\, Aikuiskaste
DESCRIPTION:
URL:https://www.evankeliset.net/tapahtuma/espoo-olari-aikuiskaste/
END:VEVENT
BEGIN:VEVENT
DTSTART;TZID=Europe/Helsinki:20240804T120000
DTEND;TZID=Europe/Helsinki:20240804T150000
DTSTAMP:20260423T203736
CREATED:20240510T064511Z
LAST-MODIFIED:20240510T064511Z
UID:9260-1722772800-1722783600@www.evankeliset.net
SUMMARY:Kannus\, Kansanlaulukirkko
DESCRIPTION:
URL:https://www.evankeliset.net/tapahtuma/kannus-kansanlaulukirkko-6/
END:VEVENT
BEGIN:VEVENT
DTSTART;TZID=Europe/Helsinki:20240804T183000
DTEND;TZID=Europe/Helsinki:20240804T203000
DTSTAMP:20260423T203736
CREATED:20240510T064715Z
LAST-MODIFIED:20240510T064715Z
UID:9262-1722796200-1722803400@www.evankeliset.net
SUMMARY:Himanka\, Tomujoki\, Seurat
DESCRIPTION:
URL:https://www.evankeliset.net/tapahtuma/himanka-tomujoki-seurat/
END:VEVENT
BEGIN:VEVENT
DTSTART;TZID=Europe/Helsinki:20240807T180000
DTEND;TZID=Europe/Helsinki:20240807T200000
DTSTAMP:20260423T203736
CREATED:20240805T093018Z
LAST-MODIFIED:20240805T093018Z
UID:9446-1723053600-1723060800@www.evankeliset.net
SUMMARY:Kurikka\, kesäkirkko
DESCRIPTION:
URL:https://www.evankeliset.net/tapahtuma/kurikka-kesakirkko-6/
END:VEVENT
BEGIN:VEVENT
DTSTART;TZID=Europe/Helsinki:20240808T180000
DTEND;TZID=Europe/Helsinki:20240808T200000
DTSTAMP:20260423T203736
CREATED:20240308T074604Z
LAST-MODIFIED:20240806T132331Z
UID:9038-1723140000-1723147200@www.evankeliset.net
SUMMARY:Alavus\, Tapuliseurat
DESCRIPTION:
URL:https://www.evankeliset.net/tapahtuma/alavus-tapuliseurat-5/
END:VEVENT
BEGIN:VEVENT
DTSTART;TZID=Europe/Helsinki:20240811T180000
DTEND;TZID=Europe/Helsinki:20240811T200000
DTSTAMP:20260423T203736
CREATED:20240730T065855Z
LAST-MODIFIED:20240730T065855Z
UID:9432-1723399200-1723406400@www.evankeliset.net
SUMMARY:Kauhava\, Purmojärvi\, Miestenilta
DESCRIPTION:
URL:https://www.evankeliset.net/tapahtuma/kauhava-purmojarvi-miestenilta/
END:VEVENT
BEGIN:VEVENT
DTSTART;TZID=Europe/Helsinki:20240813T130000
DTEND;TZID=Europe/Helsinki:20240813T163000
DTSTAMP:20260423T203736
CREATED:20240626T074743Z
LAST-MODIFIED:20240626T074743Z
UID:9411-1723554000-1723566600@www.evankeliset.net
SUMMARY:Seinäjoki\, Pohjanmaan tiimin kokous
DESCRIPTION:
URL:https://www.evankeliset.net/tapahtuma/seinajoki-pohjanmaan-tiimin-kokous/
END:VEVENT
BEGIN:VEVENT
DTSTART;TZID=Europe/Helsinki:20240821T180000
DTEND;TZID=Europe/Helsinki:20240821T200000
DTSTAMP:20260423T203736
CREATED:20240723T053700Z
LAST-MODIFIED:20240723T053700Z
UID:9416-1724263200-1724270400@www.evankeliset.net
SUMMARY:Seinäjoki\, Inkeri-ilta
DESCRIPTION:
URL:https://www.evankeliset.net/tapahtuma/seinajoki-inkeri-ilta-3/
END:VEVENT
BEGIN:VEVENT
DTSTART;TZID=Europe/Helsinki:20240822T170000
DTEND;TZID=Europe/Helsinki:20240822T200000
DTSTAMP:20260423T203736
CREATED:20240805T093409Z
LAST-MODIFIED:20240805T093409Z
UID:9448-1724346000-1724356800@www.evankeliset.net
SUMMARY:Ilmajoki\, Merja Kramsu vierailee Visit-kahvilassa
DESCRIPTION:
URL:https://www.evankeliset.net/tapahtuma/ilmajoki-merja-kramsu-vierailee-visit-kahvilassa/
END:VEVENT
BEGIN:VEVENT
DTSTART;TZID=Europe/Helsinki:20240825T140000
DTEND;TZID=Europe/Helsinki:20240825T160000
DTSTAMP:20260423T203736
CREATED:20240221T090017Z
LAST-MODIFIED:20240820T081946Z
UID:9001-1724594400-1724601600@www.evankeliset.net
SUMMARY:Peräseinäjoki\, Siionin kannel seurat
DESCRIPTION:
URL:https://www.evankeliset.net/tapahtuma/peraseinajoki-siionin-kannel-seurat-5/
END:VEVENT
BEGIN:VEVENT
DTSTART;TZID=Europe/Helsinki:20240825T150000
DTEND;TZID=Europe/Helsinki:20240825T170000
DTSTAMP:20260423T203736
CREATED:20240806T061356Z
LAST-MODIFIED:20240806T061356Z
UID:9455-1724598000-1724605200@www.evankeliset.net
SUMMARY:Kurikka\,  Siionin kannel seurat
DESCRIPTION:
URL:https://www.evankeliset.net/tapahtuma/kurikka-siionin-kannel-seurat-82/
END:VEVENT
BEGIN:VEVENT
DTSTART;TZID=Europe/Helsinki:20240828T080000
DTEND;TZID=Europe/Helsinki:20240828T170000
DTSTAMP:20260423T203736
CREATED:20240625T053559Z
LAST-MODIFIED:20240826T051709Z
UID:9408-1724832000-1724864400@www.evankeliset.net
SUMMARY:Laihia\, lähetysseurat
DESCRIPTION:
URL:https://www.evankeliset.net/tapahtuma/laihia-lahetysseurat-3/
END:VEVENT
BEGIN:VEVENT
DTSTART;TZID=Europe/Helsinki:20240828T140000
DTEND;TZID=Europe/Helsinki:20240828T160000
DTSTAMP:20260423T203736
CREATED:20240620T060316Z
LAST-MODIFIED:20240808T104940Z
UID:9389-1724853600-1724860800@www.evankeliset.net
SUMMARY:Järvenpää\, Elyn lähetyspiiri
DESCRIPTION:
URL:https://www.evankeliset.net/tapahtuma/jarvenpaa-elyn-lahetyspiiri/
END:VEVENT
BEGIN:VEVENT
DTSTART;TZID=Europe/Helsinki:20240828T180000
DTEND;TZID=Europe/Helsinki:20240828T200000
DTSTAMP:20260423T203736
CREATED:20240520T051058Z
LAST-MODIFIED:20240523T050013Z
UID:9285-1724868000-1724875200@www.evankeliset.net
SUMMARY:Kortesjärvi\, Lauluseurat
DESCRIPTION:
URL:https://www.evankeliset.net/tapahtuma/kortesjarvi-lauluseurat-2/
END:VEVENT
BEGIN:VEVENT
DTSTART;TZID=Europe/Helsinki:20240830T080000
DTEND;TZID=Europe/Helsinki:20240901T170000
DTSTAMP:20260423T203736
CREATED:20231113T164357Z
LAST-MODIFIED:20231113T164357Z
UID:8513-1725004800-1725210000@www.evankeliset.net
SUMMARY:Oulun hiippakunnan lähetysjuhla
DESCRIPTION:
URL:https://www.evankeliset.net/tapahtuma/oulun-hiippakunnan-lahetysjuhla/
END:VEVENT
BEGIN:VEVENT
DTSTART;VALUE=DATE:20240831
DTEND;VALUE=DATE:20240901
DTSTAMP:20260423T203736
CREATED:20240829T073314Z
LAST-MODIFIED:20240829T073433Z
UID:9683-1725062400-1725148799@www.evankeliset.net
SUMMARY:Tampere\, Kirkon mission päivä 2024
DESCRIPTION:
URL:https://www.evankeliset.net/tapahtuma/tampere-kirkon-mission-paiva-2024/
END:VEVENT
END:VCALENDAR