BEGIN:VCALENDAR
VERSION:2.0
PRODID:-//Evankelinen lähetysyhdistys ELY ry - ECPv6.15.18//NONSGML v1.0//EN
CALSCALE:GREGORIAN
METHOD:PUBLISH
X-ORIGINAL-URL:https://www.evankeliset.net
X-WR-CALDESC:Tapahtumat Evankelinen lähetysyhdistys ELY ry
REFRESH-INTERVAL;VALUE=DURATION:PT1H
X-Robots-Tag:noindex
X-PUBLISHED-TTL:PT1H
BEGIN:VTIMEZONE
TZID:Europe/Helsinki
BEGIN:DAYLIGHT
TZOFFSETFROM:+0200
TZOFFSETTO:+0300
TZNAME:EEST
DTSTART:20250330T010000
END:DAYLIGHT
BEGIN:STANDARD
TZOFFSETFROM:+0300
TZOFFSETTO:+0200
TZNAME:EET
DTSTART:20251026T010000
END:STANDARD
BEGIN:DAYLIGHT
TZOFFSETFROM:+0200
TZOFFSETTO:+0300
TZNAME:EEST
DTSTART:20260329T010000
END:DAYLIGHT
BEGIN:STANDARD
TZOFFSETFROM:+0300
TZOFFSETTO:+0200
TZNAME:EET
DTSTART:20261025T010000
END:STANDARD
BEGIN:DAYLIGHT
TZOFFSETFROM:+0200
TZOFFSETTO:+0300
TZNAME:EEST
DTSTART:20270328T010000
END:DAYLIGHT
BEGIN:STANDARD
TZOFFSETFROM:+0300
TZOFFSETTO:+0200
TZNAME:EET
DTSTART:20271031T010000
END:STANDARD
END:VTIMEZONE
BEGIN:VTIMEZONE
TZID:Europe/Helsinki
BEGIN:DAYLIGHT
TZOFFSETFROM:+0200
TZOFFSETTO:+0300
TZNAME:EEST
DTSTART:20250330T010000
END:DAYLIGHT
BEGIN:STANDARD
TZOFFSETFROM:+0300
TZOFFSETTO:+0200
TZNAME:EET
DTSTART:20251026T010000
END:STANDARD
BEGIN:DAYLIGHT
TZOFFSETFROM:+0200
TZOFFSETTO:+0300
TZNAME:EEST
DTSTART:20260329T010000
END:DAYLIGHT
BEGIN:STANDARD
TZOFFSETFROM:+0300
TZOFFSETTO:+0200
TZNAME:EET
DTSTART:20261025T010000
END:STANDARD
BEGIN:DAYLIGHT
TZOFFSETFROM:+0200
TZOFFSETTO:+0300
TZNAME:EEST
DTSTART:20270328T010000
END:DAYLIGHT
BEGIN:STANDARD
TZOFFSETFROM:+0300
TZOFFSETTO:+0200
TZNAME:EET
DTSTART:20271031T010000
END:STANDARD
END:VTIMEZONE
BEGIN:VEVENT
DTSTART;TZID=Europe/Helsinki:20260426T100000
DTEND;TZID=Europe/Helsinki:20260426T130000
DTSTAMP:20260423T144058
CREATED:20251003T062847Z
LAST-MODIFIED:20260408T081545Z
UID:11413-1777197600-1777208400@www.evankeliset.net
SUMMARY:Nurmes\, Elyn kirkkopyhä
DESCRIPTION:
URL:https://www.evankeliset.net/tapahtuma/nurmes-elyn-kirkkopyha-7/
END:VEVENT
BEGIN:VEVENT
DTSTART;TZID=Europe/Helsinki:20260426T100000
DTEND;TZID=Europe/Helsinki:20260426T130000
DTSTAMP:20260423T144058
CREATED:20260306T134349Z
LAST-MODIFIED:20260306T134349Z
UID:12085-1777197600-1777208400@www.evankeliset.net
SUMMARY:Hamina\, Messu Marian kirkossa
DESCRIPTION:
URL:https://www.evankeliset.net/tapahtuma/hamina-messu-marian-kirkossa/
END:VEVENT
BEGIN:VEVENT
DTSTART;TZID=Europe/Helsinki:20260426T100000
DTEND;TZID=Europe/Helsinki:20260426T130000
DTSTAMP:20260423T144058
CREATED:20260408T101652Z
LAST-MODIFIED:20260408T101652Z
UID:12175-1777197600-1777208400@www.evankeliset.net
SUMMARY:Tikkurila\, Elyn kirkkopyhä
DESCRIPTION:
URL:https://www.evankeliset.net/tapahtuma/tikkurila-elyn-kirkkopyha/
END:VEVENT
BEGIN:VEVENT
DTSTART;TZID=Europe/Helsinki:20260426T160000
DTEND;TZID=Europe/Helsinki:20260426T180000
DTSTAMP:20260423T144058
CREATED:20260414T065132Z
LAST-MODIFIED:20260414T065132Z
UID:12186-1777219200-1777226400@www.evankeliset.net
SUMMARY:Sammonlahti\, Elyn kirkkopyhä
DESCRIPTION:
URL:https://www.evankeliset.net/tapahtuma/sammonlahti-elyn-kirkkopyha/
END:VEVENT
BEGIN:VEVENT
DTSTART;TZID=Europe/Helsinki:20260426T160000
DTEND;TZID=Europe/Helsinki:20260426T190000
DTSTAMP:20260423T144058
CREATED:20251107T090023Z
LAST-MODIFIED:20260416T113643Z
UID:11568-1777219200-1777230000@www.evankeliset.net
SUMMARY:Alahärmä\, Sykemessu
DESCRIPTION:
URL:https://www.evankeliset.net/tapahtuma/alaharma-elyn-kirkkopyha-4/
END:VEVENT
BEGIN:VEVENT
DTSTART;TZID=Europe/Helsinki:20260427T130000
DTEND;TZID=Europe/Helsinki:20260427T143000
DTSTAMP:20260423T144058
CREATED:20251007T105306Z
LAST-MODIFIED:20260115T073209Z
UID:11455-1777294800-1777300200@www.evankeliset.net
SUMMARY:Kurikka\, Siionin kannel seurat
DESCRIPTION:
URL:https://www.evankeliset.net/tapahtuma/kurikka-siionin-kannel-seurat-107/
END:VEVENT
BEGIN:VEVENT
DTSTART;TZID=Europe/Helsinki:20260428T130000
DTEND;TZID=Europe/Helsinki:20260428T150000
DTSTAMP:20260423T144058
CREATED:20260127T112015Z
LAST-MODIFIED:20260127T112015Z
UID:11899-1777381200-1777388400@www.evankeliset.net
SUMMARY:Salo\, Päiväkahviseurat
DESCRIPTION:
URL:https://www.evankeliset.net/tapahtuma/salo-paivakahviseurat-15/
END:VEVENT
BEGIN:VEVENT
DTSTART;TZID=Europe/Helsinki:20260504T080000
DTEND;TZID=Europe/Helsinki:20260507T170000
DTSTAMP:20260423T144058
CREATED:20251110T124357Z
LAST-MODIFIED:20251201T140249Z
UID:11588-1777881600-1778173200@www.evankeliset.net
SUMMARY:Retki Viroon
DESCRIPTION:
URL:https://www.evankeliset.net/tapahtuma/retki-viroon/
END:VEVENT
BEGIN:VEVENT
DTSTART;TZID=Europe/Helsinki:20260506T140000
DTEND;TZID=Europe/Helsinki:20260506T160000
DTSTAMP:20260423T144058
CREATED:20251210T134958Z
LAST-MODIFIED:20260302T091941Z
UID:11743-1778076000-1778083200@www.evankeliset.net
SUMMARY:Järvenpää\, Lähetyspiiri
DESCRIPTION:
URL:https://www.evankeliset.net/tapahtuma/jarvenpaa-lahetyspiiri-24/
END:VEVENT
BEGIN:VEVENT
DTSTART;TZID=Europe/Helsinki:20260511T130000
DTEND;TZID=Europe/Helsinki:20260511T143000
DTSTAMP:20260423T144058
CREATED:20251007T105458Z
LAST-MODIFIED:20260115T073709Z
UID:11457-1778504400-1778509800@www.evankeliset.net
SUMMARY:Kurikka\, Siionin kannel seurat
DESCRIPTION:
URL:https://www.evankeliset.net/tapahtuma/kurikka-siionin-kannel-seurat-108/
END:VEVENT
BEGIN:VEVENT
DTSTART;TZID=Europe/Helsinki:20260512T140000
DTEND;TZID=Europe/Helsinki:20260512T160000
DTSTAMP:20260423T144058
CREATED:20260108T140221Z
LAST-MODIFIED:20260108T140221Z
UID:11805-1778594400-1778601600@www.evankeliset.net
SUMMARY:Hyvinkää\, Armon ja ilon iltapäivä
DESCRIPTION:
URL:https://www.evankeliset.net/tapahtuma/hyvinkaa-armon-ja-ilon-iltapaiva-16/
END:VEVENT
BEGIN:VEVENT
DTSTART;TZID=Europe/Helsinki:20260513T133000
DTEND;TZID=Europe/Helsinki:20260513T153000
DTSTAMP:20260423T144058
CREATED:20251112T084825Z
LAST-MODIFIED:20251112T084825Z
UID:11620-1778679000-1778686200@www.evankeliset.net
SUMMARY:Kokkola\, Lauluhetki päiväkahvin aikaan
DESCRIPTION:
URL:https://www.evankeliset.net/tapahtuma/kokkola-lauluhetki-paivakahvin-aikaan-13/
END:VEVENT
BEGIN:VEVENT
DTSTART;TZID=Europe/Helsinki:20260513T153000
DTEND;TZID=Europe/Helsinki:20260513T173000
DTSTAMP:20260423T144058
CREATED:20251112T090953Z
LAST-MODIFIED:20251112T090953Z
UID:11628-1778686200-1778693400@www.evankeliset.net
SUMMARY:Tampere\, Lauletaan yhdessä itsemme rakentumiseksi
DESCRIPTION:
URL:https://www.evankeliset.net/tapahtuma/tampere-lauletaan-yhdessa-itsemme-rakentumiseksi-4/
END:VEVENT
BEGIN:VEVENT
DTSTART;TZID=Europe/Helsinki:20260514T100000
DTEND;TZID=Europe/Helsinki:20260514T113000
DTSTAMP:20260423T144058
CREATED:20260302T081848Z
LAST-MODIFIED:20260302T081848Z
UID:12046-1778752800-1778758200@www.evankeliset.net
SUMMARY:Kauniainen\, Messu
DESCRIPTION:
URL:https://www.evankeliset.net/tapahtuma/kauniainen-messu-2/
END:VEVENT
BEGIN:VEVENT
DTSTART;TZID=Europe/Helsinki:20260517T130000
DTEND;TZID=Europe/Helsinki:20260517T150000
DTSTAMP:20260423T144058
CREATED:20251021T050110Z
LAST-MODIFIED:20260206T114207Z
UID:11501-1779022800-1779030000@www.evankeliset.net
SUMMARY:Seinäjoki\, Kevätkirkko
DESCRIPTION:
URL:https://www.evankeliset.net/tapahtuma/seinajoki-kevatkirkko-5/
END:VEVENT
BEGIN:VEVENT
DTSTART;TZID=Europe/Helsinki:20260517T150000
DTEND;TZID=Europe/Helsinki:20260517T170000
DTSTAMP:20260423T144058
CREATED:20260206T114455Z
LAST-MODIFIED:20260206T114455Z
UID:11963-1779030000-1779037200@www.evankeliset.net
SUMMARY:Seinäjoki\, Pysähtymisen polku-kaupunkipyhiinvaellus
DESCRIPTION:
URL:https://www.evankeliset.net/tapahtuma/seinajoki-pysahtymisen-polku-kaupunkipyhiinvaellus/
END:VEVENT
BEGIN:VEVENT
DTSTART;TZID=Europe/Helsinki:20260517T153000
DTEND;TZID=Europe/Helsinki:20260517T173000
DTSTAMP:20260423T144058
CREATED:20260306T073255Z
LAST-MODIFIED:20260306T073255Z
UID:12065-1779031800-1779039000@www.evankeliset.net
SUMMARY:Kokkola\, ELYn ja Herättäjän yhteiset seurat
DESCRIPTION:
URL:https://www.evankeliset.net/tapahtuma/kokkola-elyn-ja-herattajan-yhteiset-seurat/
END:VEVENT
BEGIN:VEVENT
DTSTART;TZID=Europe/Helsinki:20260521T133000
DTEND;TZID=Europe/Helsinki:20260521T153000
DTSTAMP:20260423T144058
CREATED:20260127T112323Z
LAST-MODIFIED:20260127T112323Z
UID:11901-1779370200-1779377400@www.evankeliset.net
SUMMARY:Seinäjoki\, Siionin kannel -lauluhartaus
DESCRIPTION:
URL:https://www.evankeliset.net/tapahtuma/seinajoki-siionin-kannel-lauluhartaus-3/
END:VEVENT
BEGIN:VEVENT
DTSTART;TZID=Europe/Helsinki:20260521T140000
DTEND;TZID=Europe/Helsinki:20260521T160000
DTSTAMP:20260423T144058
CREATED:20251007T105623Z
LAST-MODIFIED:20260420T104131Z
UID:11459-1779372000-1779379200@www.evankeliset.net
SUMMARY:Kauhajoki\, Siionin kannel seurat
DESCRIPTION:
URL:https://www.evankeliset.net/tapahtuma/kauhajoki-siionin-kannel-seurat-45/
END:VEVENT
BEGIN:VEVENT
DTSTART;TZID=Europe/Helsinki:20260525T170000
DTEND;TZID=Europe/Helsinki:20260525T183000
DTSTAMP:20260423T144058
CREATED:20260309T085916Z
LAST-MODIFIED:20260309T085916Z
UID:12091-1779728400-1779733800@www.evankeliset.net
SUMMARY:Seinäjoki\, Kevään ja kesän virsiä ja lauluja
DESCRIPTION:
URL:https://www.evankeliset.net/tapahtuma/seinajoki-kevaan-ja-kesan-virsia-ja-lauluja/
END:VEVENT
BEGIN:VEVENT
DTSTART;TZID=Europe/Helsinki:20260527T180000
DTEND;TZID=Europe/Helsinki:20260527T200000
DTSTAMP:20260423T144058
CREATED:20251106T132354Z
LAST-MODIFIED:20251106T132354Z
UID:11560-1779904800-1779912000@www.evankeliset.net
SUMMARY:Teuva\, Seurat
DESCRIPTION:
URL:https://www.evankeliset.net/tapahtuma/teuva-seurat-2/
END:VEVENT
BEGIN:VEVENT
DTSTART;TZID=Europe/Helsinki:20260527T180000
DTEND;TZID=Europe/Helsinki:20260527T200000
DTSTAMP:20260423T144058
CREATED:20260129T124038Z
LAST-MODIFIED:20260211T105254Z
UID:11923-1779904800-1779912000@www.evankeliset.net
SUMMARY:Seinäjoki\, Merjan eläkejuhla
DESCRIPTION:
URL:https://www.evankeliset.net/tapahtuma/seinajoki-2/
END:VEVENT
BEGIN:VEVENT
DTSTART;TZID=Europe/Helsinki:20260527T180000
DTEND;TZID=Europe/Helsinki:20260527T200000
DTSTAMP:20260423T144058
CREATED:20260415T065949Z
LAST-MODIFIED:20260415T065949Z
UID:12189-1779904800-1779912000@www.evankeliset.net
SUMMARY:Jalasjärvi\, ELYn ja HYn kevätseurat
DESCRIPTION:
URL:https://www.evankeliset.net/tapahtuma/jalasjarvi-elyn-ja-hyn-kevatseurat/
END:VEVENT
BEGIN:VEVENT
DTSTART;TZID=Europe/Helsinki:20260528T173000
DTEND;TZID=Europe/Helsinki:20260528T190000
DTSTAMP:20260423T144058
CREATED:20251117T121638Z
LAST-MODIFIED:20251117T121638Z
UID:11649-1779989400-1779994800@www.evankeliset.net
SUMMARY:Tampere\, Siionin kannel seurat
DESCRIPTION:
URL:https://www.evankeliset.net/tapahtuma/tampere-siionin-kannel-seurat-20/
END:VEVENT
BEGIN:VEVENT
DTSTART;TZID=Europe/Helsinki:20260601T130000
DTEND;TZID=Europe/Helsinki:20260601T140000
DTSTAMP:20260423T144058
CREATED:20260302T122241Z
LAST-MODIFIED:20260302T122241Z
UID:12056-1780318800-1780322400@www.evankeliset.net
SUMMARY:Espoo\, Siionin kanteleen lauluhetki
DESCRIPTION:
URL:https://www.evankeliset.net/tapahtuma/espoo-siionin-kanteleen-lauluhetki/
END:VEVENT
BEGIN:VEVENT
DTSTART;TZID=Europe/Helsinki:20260603T130000
DTEND;TZID=Europe/Helsinki:20260603T140000
DTSTAMP:20260423T144058
CREATED:20260302T122345Z
LAST-MODIFIED:20260302T122345Z
UID:12058-1780491600-1780495200@www.evankeliset.net
SUMMARY:Espoo\, Siionin kanteleen lauluhetki
DESCRIPTION:
URL:https://www.evankeliset.net/tapahtuma/espoo-siionin-kanteleen-lauluhetki-2/
END:VEVENT
BEGIN:VEVENT
DTSTART;TZID=Europe/Helsinki:20260603T170000
DTEND;TZID=Europe/Helsinki:20260603T180000
DTSTAMP:20260423T144058
CREATED:20260220T113748Z
LAST-MODIFIED:20260220T113748Z
UID:12008-1780506000-1780509600@www.evankeliset.net
SUMMARY:Ilmajoki\, Peräkloosteri-kirppis
DESCRIPTION:
URL:https://www.evankeliset.net/tapahtuma/ilmajoki-perakloosteri-kirppis/
END:VEVENT
BEGIN:VEVENT
DTSTART;TZID=Europe/Helsinki:20260603T190000
DTEND;TZID=Europe/Helsinki:20260603T200000
DTSTAMP:20260423T144058
CREATED:20251219T140910Z
LAST-MODIFIED:20260422T091256Z
UID:11780-1780513200-1780516800@www.evankeliset.net
SUMMARY:Kurikka\, Kesäkirkko
DESCRIPTION:
URL:https://www.evankeliset.net/tapahtuma/kurikka-kesakirkko-8/
END:VEVENT
BEGIN:VEVENT
DTSTART;TZID=Europe/Helsinki:20260605T130000
DTEND;TZID=Europe/Helsinki:20260605T140000
DTSTAMP:20260423T144058
CREATED:20260302T122438Z
LAST-MODIFIED:20260302T122438Z
UID:12060-1780664400-1780668000@www.evankeliset.net
SUMMARY:Espoo\, Siionin kanteleen lauluhetki
DESCRIPTION:
URL:https://www.evankeliset.net/tapahtuma/espoo-siionin-kanteleen-lauluhetki-3/
END:VEVENT
BEGIN:VEVENT
DTSTART;TZID=Europe/Helsinki:20260606T080000
DTEND;TZID=Europe/Helsinki:20260607T170000
DTSTAMP:20260423T144058
CREATED:20251110T124637Z
LAST-MODIFIED:20251110T124637Z
UID:11590-1780732800-1780851600@www.evankeliset.net
SUMMARY:Ikaalinen\, Evankeliset kesäjuhlat
DESCRIPTION:
URL:https://www.evankeliset.net/tapahtuma/ikaalinen-evankeliset-kesajuhlat/
END:VEVENT
END:VCALENDAR